{"text_format":"1","workbook":"xlsx","n_sheets":3,"sheets":["基本情報入力（入力必須）","請求書","明細書"],"not_rendered":{"charts":0,"images":0,"macros":1,"external_links":0,"defined_names":1,"comments":0,"pivot_tables":0},"unopened":[],"bounds":{"document_bytes":16777216,"sheet_cells":100000,"rows_first":2000,"rows_last":500,"rows_between":2000,"halvings":0,"cell_chars":16384,"cell_head_chars":4096},"cells_cut":0,"cells_raw":0,"read":"whole","date_system":"1900"}

{"sheet":"基本情報入力（入力必須）","index":0,"n_rows":31,"n_cols":9,"rows_kept":31,"cut":false,"hidden":false,"merged":[[30,1,30,7],[0,0,0,7],[24,1,24,7],[28,1,28,7],[14,1,14,7],[16,1,16,7],[18,1,18,7],[20,1,20,7],[22,1,22,7],[4,1,4,7],[6,1,6,7],[8,1,8,7],[12,1,12,7],[26,1,26,7],[10,1,10,7]]}
["基本事項入力（貴社情報）"]
[]
["①請求日（月末）","西暦",null,"年",null,"月",null,"日"]
[]
["②郵便番号"]
[]
["③会社住所"]
[]
["④会社名"]
[]
["⑤代表者名"]
[]
["⑥インボイス登録番号",null,null,null,null,null,null,null,"※登録番号がない場合は、未記入"]
[]
["⑦電話番号(半角)",null,null,null,null,null,null,null,"※市外局番、市内局番の後にハイフン（‐）を入れて下さい"]
[]
["⑧FAX番号(半角)",null,null,null,null,null,null,null,"※市外局番、市内局番の後にハイフン（‐）を入れて下さい"]
[]
["⑨銀行名"]
[]
["⑩支店名"]
[]
["⑪口座の種類（普通or当座）"]
[]
["⑫口座番号"]
[]
["⑬口座名義（カタカナ）"]
[]
["⑭契約工事名"]
[]
["⑮契約工事番号",null,null,null,null,null,null,null,"※契約工事番号は現場代理人が入力します"]

{"sheet":"請求書","index":1,"n_rows":95,"n_cols":59,"rows_kept":95,"cut":false,"hidden":false,"merged":[[56,19,56,21],[57,19,57,21],[50,17,50,18],[51,17,51,18],[52,17,52,18],[53,17,53,18],[54,17,54,18],[55,17,55,18],[56,17,56,18],[57,17,57,18],[60,34,60,43],[61,1,61,5],[23,17,23,18],[24,17,24,18],[25,17,25,18],[26,17,26,18],[18,19,18,21],[19,19,19,21],[20,19,20,21],[21,19,21,21],[22,19,22,21],[23,19,23,21],[24,19,24,21],[25,19,25,21],[26,19,26,21],[18,17,18,18],[57,10,57,16],[58,10,58,16],[50,19,50,21],[51,19,51,21],[52,19,52,21],[53,19,53,21],[54,19,54,21],[55,19,55,21],[43,0,43,3],[45,0,45,3],[64,55,64,60],[65,0,65,60],[50,0,50,9],[50,22,50,27],[50,28,50,34],[50,35,50,36],[50,37,50,43],[51,0,51,9],[51,22,51,27],[51,28,51,34],[51,35,51,36],[51,37,51,43],[62,1,62,5],[62,6,62,10],[62,11,62,15],[62,27,62,33],[62,34,62,43],[60,1,60,5],[60,6,60,10],[60,11,60,15],[60,19,60,23],[60,27,60,33],[43,51,43,60],[44,5,44,25],[44,36,44,60],[48,45,48,51],[48,52,48,54],[48,55,48,57],[48,58,48,60],[49,45,49,51],[49,52,49,54],[49,55,49,57],[49,58,49,60],[32,55,32,60],[33,0,33,60],[35,0,35,15],[35,17,36,20],[35,21,36,41],[37,17,39,20],[37,21,39,41],[39,2,39,5],[39,6,39,7],[39,8,39,9],[39,10,39,11],[39,12,39,13],[39,14,39,15],[42,46,42,49],[42,51,42,60],[56,45,56,60],[54,35,54,36],[54,37,54,43],[55,22,55,27],[55,28,55,34],[55,35,55,36],[55,37,55,43],[56,22,56,27],[56,28,56,34],[56,35,56,36],[56,37,56,43],[53,45,54,45],[53,46,53,51],[54,46,54,51],[43,31,43,34],[43,36,43,45],[43,46,43,49],[43,5,43,25],[43,26,44,29],[45,5,45,29],[46,5,46,14],[46,15,46,18],[75,31,75,34],[74,31,74,34],[77,5,77,29],[78,0,78,3],[25,35,25,36],[26,35,26,36],[18,35,18,36],[18,28,18,34],[19,28,19,34],[20,28,20,34],[21,28,21,34],[22,28,22,34],[23,28,23,34],[24,28,24,34],[25,28,25,34],[26,28,26,34],[42,10,42,29],[42,31,42,34],[42,36,42,45],[61,6,61,10],[61,11,61,15],[61,19,61,23],[61,27,61,33],[61,34,61,43],[80,0,81,4],[77,0,77,3],[74,0,74,3],[69,17,71,20],[80,15,81,23],[85,22,85,27],[83,0,83,9],[84,0,84,9],[82,0,82,9],[80,5,81,14],[75,0,75,3],[74,5,74,8],[78,5,78,14],[78,15,78,18],[78,20,78,29],[74,10,74,29],[71,2,71,5],[76,0,76,3],[25,0,25,9],[23,0,23,9],[41,0,41,29],[42,0,42,3],[42,5,42,8],[19,22,19,27],[20,22,20,27],[21,22,21,27],[44,31,44,34],[29,11,29,15],[30,11,30,15],[24,0,24,9],[19,10,19,16],[20,10,20,16],[21,10,21,16],[22,10,22,16],[23,10,23,16],[24,10,24,16],[25,10,25,16],[26,10,26,16],[19,17,19,18],[20,17,20,18],[21,17,21,18],[22,17,22,18],[28,19,28,23],[29,19,29,23],[44,0,44,3],[55,0,55,9],[67,0,67,15],[71,10,71,11],[71,12,71,13],[71,14,71,15],[57,22,57,27],[46,20,46,29],[48,0,49,4],[48,5,49,14],[48,15,49,23],[48,24,49,43],[58,17,58,18],[50,10,50,16],[51,10,51,16],[52,10,52,16],[53,10,53,16],[54,10,54,16],[55,10,55,16],[56,10,56,16],[52,22,52,27],[52,28,52,34],[86,0,86,9],[82,22,82,27],[82,28,82,34],[82,35,82,36],[82,10,82,16],[83,10,83,16],[84,10,84,16],[85,10,85,16],[86,10,86,16],[82,17,82,18],[83,17,83,18],[84,17,84,18],[85,17,85,18],[86,17,86,18],[82,19,82,21],[83,19,83,21],[84,19,84,21],[85,28,85,34],[85,35,85,36],[85,0,85,9],[87,0,87,9],[89,0,89,9],[88,0,88,9],[87,22,87,27],[87,28,87,34],[87,10,87,16],[88,10,88,16],[89,10,89,16],[87,17,87,18],[88,17,88,18],[89,17,89,18],[87,19,87,21],[88,19,88,21],[89,19,89,21],[88,22,88,27],[88,28,88,34],[1,0,1,60],[3,21,4,41],[5,21,7,41],[3,44,7,60],[18,55,18,57],[19,55,19,57],[20,55,20,57],[21,55,21,57],[11,46,11,49],[11,51,11,60],[19,52,19,54],[19,45,19,51],[10,5,10,8],[11,26,12,29],[16,52,16,54],[17,52,17,54],[18,52,18,54],[7,2,7,5],[18,10,18,16],[20,45,20,51],[21,46,21,51],[10,51,10,60],[10,46,10,49],[10,31,10,34],[11,31,11,34],[11,5,11,25],[12,5,12,25],[18,22,18,27],[20,58,20,60],[21,58,21,60],[19,58,19,60],[11,36,11,45],[12,36,12,60],[16,55,16,57],[16,58,16,60],[17,55,17,57],[18,37,18,43],[19,37,19,43],[20,37,20,43],[21,37,21,43],[19,35,19,36],[20,35,20,36],[21,35,21,36],[3,17,4,20],[7,12,7,13],[7,10,7,11],[3,0,3,15],[10,10,10,29],[5,17,7,20],[7,8,7,9],[7,6,7,7],[46,0,46,3],[7,14,7,15],[19,0,19,9],[12,0,12,3],[13,5,13,29],[23,22,23,27],[28,1,28,5],[26,0,26,9],[29,1,29,5],[30,1,30,5],[28,6,28,10],[29,6,29,10],[30,6,30,10],[28,11,28,15],[9,0,9,29],[22,0,22,9],[53,55,53,57],[71,6,71,7],[71,8,71,9],[67,46,68,48],[67,49,68,51],[13,0,13,3],[10,36,10,45],[14,0,14,3],[14,15,14,18],[12,31,12,34],[10,0,10,3],[11,0,11,3],[14,5,14,14],[18,0,18,9],[22,46,22,51],[21,45,22,45],[25,22,25,27],[26,22,26,27],[24,37,24,43],[25,37,25,43],[26,37,26,43],[24,35,24,36],[16,45,16,51],[17,45,17,51],[69,49,71,51],[69,52,71,54],[67,43,68,45],[67,52,68,54],[82,45,82,51],[83,45,83,51],[81,45,81,51],[82,52,82,54],[83,52,83,54],[74,36,74,45],[74,46,74,49],[93,45,93,50],[93,51,93,60],[91,45,91,60],[92,45,92,50],[92,51,92,60],[89,51,89,59],[86,58,86,60],[90,48,90,60],[86,55,86,57],[88,51,88,59],[86,46,86,51],[86,52,86,54],[89,48,89,50],[88,46,88,47],[89,46,89,47],[88,48,88,50],[88,45,90,45],[84,52,84,54],[85,52,85,54],[75,46,75,49],[85,45,86,45],[84,45,84,51],[85,58,85,60],[85,46,85,51],[69,58,71,60],[84,58,84,60],[84,55,84,57],[85,55,85,57],[75,36,75,45],[73,31,73,60],[76,36,76,60],[80,24,81,43],[80,45,80,51],[80,52,80,54],[80,55,80,57],[76,31,76,34],[75,5,75,25],[76,5,76,25],[69,21,71,41],[75,26,76,29],[73,0,73,29],[0,55,0,60],[81,55,81,57],[82,55,82,57],[83,55,83,57],[20,52,20,54],[21,52,21,54],[22,52,22,54],[81,58,81,60],[82,58,82,60],[83,58,83,60],[74,51,74,60],[75,51,75,60],[81,52,81,54],[50,52,50,54],[51,52,51,54],[50,58,50,60],[22,55,22,57],[17,58,17,60],[18,58,18,60],[53,58,53,60],[54,58,54,60],[9,31,9,60],[67,58,68,60],[52,52,52,54],[22,58,22,60],[50,45,50,51],[51,45,51,51],[18,45,18,51],[20,0,20,9],[21,0,21,9],[16,5,17,14],[14,20,14,29],[16,0,17,4],[16,15,17,23],[16,24,17,43],[22,22,22,27],[22,37,22,43],[22,35,22,36],[23,37,23,43],[23,35,23,36],[28,34,28,43],[29,34,29,43],[30,34,30,43],[24,45,24,60],[30,27,30,33],[29,27,29,33],[28,27,28,33],[24,22,24,27],[53,22,53,27],[53,28,53,34],[54,22,54,27],[54,28,54,34],[67,17,68,20],[67,21,68,41],[56,0,56,9],[58,0,58,9],[52,0,52,9],[53,0,53,9],[54,0,54,9],[57,0,57,9],[52,35,52,36],[52,37,52,43],[53,35,53,36],[53,37,53,43],[57,28,57,34],[57,35,57,36],[57,37,57,43],[58,22,58,27],[58,28,58,34],[58,35,58,36],[58,37,58,43],[58,19,58,21],[80,58,80,60],[35,45,39,56],[35,58,36,60],[37,58,39,60],[59,45,59,60],[60,45,60,60],[61,45,61,60],[62,45,62,60],[52,58,52,60],[53,52,53,54],[54,55,54,57],[54,52,54,54],[52,45,52,51],[41,31,41,60],[57,52,57,60],[58,52,58,60],[51,58,51,60],[50,55,50,57],[69,46,71,48],[69,55,71,57],[67,55,68,57],[51,55,51,57],[52,55,52,57],[69,43,71,45],[88,35,88,36],[88,37,88,43],[89,22,89,27],[89,28,89,34],[89,35,89,36],[89,37,89,43],[82,37,82,43],[83,22,83,27],[83,28,83,34],[83,35,83,36],[83,37,83,43],[84,22,84,27],[84,28,84,34],[84,35,84,36],[84,37,84,43],[87,35,87,36],[87,37,87,43],[57,45,57,51],[58,45,58,51],[94,45,94,50],[94,51,94,60],[92,1,92,5],[92,6,92,10],[92,11,92,15],[92,19,92,23],[92,27,92,33],[92,34,92,43],[93,1,93,5],[93,6,93,10],[93,11,93,15],[93,19,93,23],[93,27,93,33],[93,34,93,43],[85,37,85,43],[86,22,86,27],[86,28,86,34],[86,35,86,36],[86,37,86,43],[85,19,85,21],[86,19,86,21],[90,22,90,27],[90,0,90,9],[90,10,90,16],[90,17,90,18],[90,19,90,21],[94,1,94,5],[94,6,94,10],[94,11,94,15],[94,27,94,33],[94,34,94,43],[90,28,90,34],[90,35,90,36],[90,37,90,43]]}
[null,null,null,null,null,null,null,null,null,null,null,null,null,null,null,null,null,null,null,null,null,null,null,null,null,null,null,null,null,null,null,null,null,null,null,null,null,null,null,null,null,null,null,null,null,null,null,null,null,null,null,null,null,null,null,"業　者　控"]
["　請　　　求　　　書　"]
[]
["㈱　有　迫　組　御中",null,null,null,null,null,null,null,null,null,null,null,null,null,null,null,null,"工事番号",null,null,null,{"$f":"IF('基本情報入力（入力必須）'!$B$31=\"\",\"\",'基本情報入力（入力必須）'!$B$31)","v":""},null,null,null,null,null,null,null,null,null,null,null,null,null,null,null,null,null,null,null,null,null,"※","請求書は3日までに【現場控】と【本社控】を作業所長及び担当者に提出して下さい"]
[]
[null,"下記の通り請求致します",null,null,null,null,null,null,null,null,null,null,null,null,null,null,null,"工事名",null,null,null,{"$f":"IF('基本情報入力（入力必須）'!$B$29=\"\",\"\",'基本情報入力（入力必須）'!$B$29)","v":""}]
[]
[null,null,{"$f":"IF('基本情報入力（入力必須）'!$C$3=\"\",\"\",'基本情報入力（入力必須）'!$C$3)","v":""},null,null,null,"年",null,{"$f":"IF('基本情報入力（入力必須）'!$E$3=\"\",\"\",'基本情報入力（入力必須）'!$E$3)","v":""},null,"月",null,{"$f":"IF('基本情報入力（入力必須）'!$G$3=\"\",\"\",'基本情報入力（入力必須）'!$G$3)","v":""},null,"日"]
[]
["請求者情報",null,null,null,null,null,null,null,null,null,null,null,null,null,null,null,null,null,null,null,null,null,null,null,null,null,null,null,null,null,null,"振込先情報"]
["住所",null,null,null,"〒",{"$f":"IF('基本情報入力（入力必須）'!$B$5=\"\",\"\",'基本情報入力（入力必須）'!$B$5)","v":""},null,null,null,null,{"$f":"IF('基本情報入力（入力必須）'!$B$7=\"\",\"\",'基本情報入力（入力必須）'!$B$7)","v":""},null,null,null,null,null,null,null,null,null,null,null,null,null,null,null,null,null,null,null,null,"銀行名",null,null,null,null,{"$f":"IF('基本情報入力（入力必須）'!$B$19=\"\",\"\",'基本情報入力（入力必須）'!$B$19)","v":""},null,null,null,null,null,null,null,null,null,"支店名",null,null,null,null,{"$f":"IF('基本情報入力（入力必須）'!$B$21=\"\",\"\",'基本情報入力（入力必須）'!$B$21)","v":""}]
["会社名",null,null,null,null,{"$f":"IF('基本情報入力（入力必須）'!$B$9=\"\",\"\",'基本情報入力（入力必須）'!$B$9)","v":""},null,null,null,null,null,null,null,null,null,null,null,null,null,null,null,null,null,null,null,null,"㊞\n【現場控】\n【本社控】\nに押印して下さい",null,null,null,null,"口座種類",null,null,null,null,{"$f":"IF('基本情報入力（入力必須）'!$B$23=\"\",\"\",'基本情報入力（入力必須）'!$B$23)","v":""},null,null,null,null,null,null,null,null,null,"口座番号",null,null,null,null,{"$f":"IF('基本情報入力（入力必須）'!$B$25=\"\",\"\",'基本情報入力（入力必須）'!$B$25)","v":""}]
["代表者名",null,null,null,null,{"$f":"IF('基本情報入力（入力必須）'!$B$11=\"\",\"\",'基本情報入力（入力必須）'!$B$11)","v":""},null,null,null,null,null,null,null,null,null,null,null,null,null,null,null,null,null,null,null,null,null,null,null,null,null,"口座名義",null,null,null,null,{"$f":"IF('基本情報入力（入力必須）'!$B$27=\"\",\"\",'基本情報入力（入力必須）'!$B$27)","v":""}]
["登録番号",null,null,null,null,{"$f":"IF('基本情報入力（入力必須）'!$B$13=\"\",\"\",'基本情報入力（入力必須）'!$B$13)","v":""},null,null,null,null,null,null,null,null,null,null,null,null,null,null,null,null,null,null,null,null,null,null,null,null,null,"※","貴社印を【現場控】及び【本社控】に押印して下さい"]
["電話番号",null,null,null,null,{"$f":"IF('基本情報入力（入力必須）'!$B$15=\"\",\"\",'基本情報入力（入力必須）'!$B$15)","v":""},null,null,null,null,null,null,null,null,null,"FAX番号",null,null,null,null,{"$f":"IF('基本情報入力（入力必須）'!$B$17=\"\",\"\",'基本情報入力（入力必須）'!$B$17)","v":""},null,null,null,null,null,null,null,null,null,null,"※","請求書内に書ききれない場合は、別紙「明細書」にご記入ください"]
[]
[{"$f":"IF('基本情報入力（入力必須）'!$E$3=\"\",\"\",'基本情報入力（入力必須）'!$E$3)","v":""},null,null,null,null,"月分請求",null,null,null,null,null,null,null,null,null,"合計金額（税込）",null,null,null,null,null,null,null,null,{"$f":"$AI$31","v":0},null,null,null,null,null,null,null,null,null,null,null,null,null,null,null,null,null,null,null,null,"契約金額"]
[null,null,null,null,null,null,null,null,null,null,null,null,null,null,null,null,null,null,null,null,null,null,null,null,null,null,null,null,null,null,null,null,null,null,null,null,null,null,null,null,null,null,null,null,null,"出来高金額"]
["名称",null,null,null,null,null,null,null,null,null,"仕様・細別",null,null,null,null,null,null,"単位",null,"軽減税\n非課税",null,null,"出来高・納入数量",null,null,null,null,null,"単価",null,null,null,null,null,null,"税率",null,"金額(税抜)",null,null,null,null,null,null,null,"前回迄支払金額"]
[null,null,null,null,null,null,null,null,null,null,null,null,null,null,null,null,null,null,null,null,null,null,null,null,null,null,null,null,null,null,null,null,null,null,null,{"$f":"_xlfn.IFS(A20=\"\", \"\", T20=\"\", 10%, T20=\"※8%\", 8%,T20=\"※非課税\",0%)","v":""},null,{"$f":"IF(W20=\"\",IF(AC20=\"\",\"\",AC20),ROUND(W20*AC20,0))","v":""},null,null,null,null,null,null,null,"控除金額"]
[null,null,null,null,null,null,null,null,null,null,null,null,null,null,null,null,null,"　",null,null,null,null,null,null,null,null,null,null,null,null,null,null,null,null,null,{"$f":"_xlfn.IFS(A21=\"\", \"\", T21=\"\", 10%, T21=\"※8%\", 8%,T21=\"※非課税\",0%)","v":""},null,{"$f":"IF(W21=\"\",IF(AC21=\"\",\"\",AC21),ROUND(W21*AC21,0))","v":""},null,null,null,null,null,null,null,"今回支払金額"]
[null,null,null,null,null,null,null,null,null,null,null,null,null,null,null,null,null,"　",null,null,null,null,null,null,null,null,null,null,null,null,null,null,null,null,null,{"$f":"_xlfn.IFS(A22=\"\", \"\", T22=\"\", 10%, T22=\"※8%\", 8%,T22=\"※非課税\",0%)","v":""},null,"",null,null,null,null,null,null,null,"未払金","保留金額"]
[null,null,null,null,null,null,null,null,null,null,null,null,null,null,null,null,null,"　",null,null,null,null,null,null,null,null,null,null,null,null,null,null,null,null,null,{"$f":"_xlfn.IFS(A23=\"\", \"\", T23=\"\", 10%, T23=\"※8%\", 8%,T23=\"※非課税\",0%)","v":""},null,"",null,null,null,null,null,null,null,null,"差引契約金額"]
[null,null,null,null,null,null,null,null,null,null,null,null,null,null,null,null,null,"　",null,null,null,null,null,null,null,null,null,null,null,null,null,null,null,null,null,{"$f":"_xlfn.IFS(A24=\"\", \"\", T24=\"\", 10%, T24=\"※8%\", 8%,T24=\"※非課税\",0%)","v":""},null,""]
[null,null,null,null,null,null,null,null,null,null,null,null,null,null,null,null,null,"　",null,null,null,null,null,null,null,null,null,null,null,null,null,null,null,null,null,{"$f":"_xlfn.IFS(A25=\"\", \"\", T25=\"\", 10%, T25=\"※8%\", 8%,T25=\"※非課税\",0%)","v":""},null,"",null,null,null,null,null,null,null,"備　　　　　　　　　考"]
[null,null,null,null,null,null,null,null,null,null,null,null,null,null,null,null,null,"　",null,null,null,null,null,null,null,null,null,null,null,null,null,null,null,null,null,{"$f":"_xlfn.IFS(A26=\"\", \"\", T26=\"\", 10%, T26=\"※8%\", 8%,T26=\"※非課税\",0%)","v":""},null,""]
[null,null,null,null,null,null,null,null,null,null,null,null,null,null,null,null,null,"　",null,null,null,null,null,null,null,null,null,null,null,null,null,null,null,null,null,{"$f":"_xlfn.IFS(A27=\"\", \"\", T27=\"\", 10%, T27=\"※8%\", 8%,T27=\"※非課税\",0%)","v":""},null,""]
[]
[null,"税率区分",null,null,null,null,"金額",null,null,null,null,"消費税",null,null,null,null,null,null,null,"非課税合計",null,null,null,null,null,null,null,"小計(税抜)",null,null,null,null,null,null,{"$f":"SUM($AL$20:$AR$27)+SUM(明細書!$H$21)+SUM(明細書!$H$42)+SUM(明細書!$H$63)+SUM(明細書!$H$84)+SUM(明細書!$H$105)","v":0}]
[null,"10%対象",null,null,null,null,{"$f":"SUMIF($AJ$20:$AJ$27,10%,$AL$20:$AL$27)+SUMIF(明細書!$G$4:$G$20,10%,明細書!$H$4:$H$20)+SUMIF(明細書!$G$25:$G$41,10%,明細書!$H$25:$H$41)+SUMIF(明細書!$G$46:$G$62,10%,明細書!$H$46:$H$62)+SUMIF(明細書!$G$67:$G$83,10%,明細書!$H$67:$H$83)+SUMIF(明細書!$G$88:$G$104,10%,明細書!$H$88:$H$104)","v":0},null,null,null,null,{"$f":"IF(G30=\"\",\"\",ROUND(G30*0.1,0))","v":0},null,null,null,null,null,null,null,{"$f":"SUMIF($AJ$20:$AJ$27,\"0%\",$AL$20:$AL$27)+SUMIF(明細書!$G$4:$G$20,\"0%\",明細書!$H$4:$H$20)+SUMIF(明細書!$G$25:$G$41,\"0%\",明細書!$H$25:$H$41)+SUMIF(明細書!$G$46:$G$62,\"0%\",明細書!$H$46:$H$62)+SUMIF(明細書!$G$67:$G$83,\"0%\",明細書!$H$67:$H$83)+SUMIF(明細書!$G$88:$G$104,\"0%\",明細書!$H$88:$H$104)","v":0},null,null,null,null,null,null,null,"消費税合計",null,null,null,null,null,null,{"$f":"SUM(L30:L31)","v":0}]
[null,"8%対象",null,null,null,null,{"$f":"SUMIF($AJ$20:$AJ$27,8%,$AL$20:$AL$27)+SUMIF(明細書!$G$4:$G$20,8%,明細書!$H$4:$H$20)+SUMIF(明細書!$G$25:$G$41,8%,明細書!$H$25:$H$41)+SUMIF(明細書!$G$46:$G$62,8%,明細書!$H$46:$H$62)+SUMIF(明細書!$G$67:$G$83,8%,明細書!$H$67:$H$83)+SUMIF(明細書!$G$88:$G$104,8%,明細書!$H$88:$H$104)","v":0},null,null,null,null,{"$f":"IF(G31=\"\",\"\",ROUND(G31*0.08,0))","v":0},null,null,null,null,null,null,null,null,null,null,null,null,null,null,null,"合計(小計+消費税)",null,null,null,null,null,null,{"$f":"SUM(AI29:AI30)","v":0}]
[]
[null,null,null,null,null,null,null,null,null,null,null,null,null,null,null,null,null,null,null,null,null,null,null,null,null,null,null,null,null,null,null,null,null,null,null,null,null,null,null,null,null,null,null,null,null,null,null,null,null,null,null,null,null,null,null,"現　場　控"]
["　請　　　求　　　書　"]
[]
["㈱　有　迫　組　御中",null,null,null,null,null,null,null,null,null,null,null,null,null,null,null,null,"工事番号",null,null,null,{"$f":"IF('基本情報入力（入力必須）'!$B$31=\"\",\"\",'基本情報入力（入力必須）'!$B$31)","v":""},null,null,null,null,null,null,null,null,null,null,null,null,null,null,null,null,null,null,null,null,null,null,"※","請求書は承認印を押して8日までに本社に提出して下さい。",null,null,null,null,null,null,null,null,null,null,null,null,"作業所長"]
[]
[null,"下記の通り請求致します",null,null,null,null,null,null,null,null,null,null,null,null,null,null,null,"工事名",null,null,null,{"$f":"IF('基本情報入力（入力必須）'!$B$29=\"\",\"\",'基本情報入力（入力必須）'!$B$29)","v":""}]
[]
[null,null,{"$f":"IF('基本情報入力（入力必須）'!$C$3=\"\",\"\",'基本情報入力（入力必須）'!$C$3)","v":""},null,null,null,"年",null,{"$f":"IF('基本情報入力（入力必須）'!$E$3=\"\",\"\",'基本情報入力（入力必須）'!$E$3)","v":""},null,"月",null,{"$f":"IF('基本情報入力（入力必須）'!$G$3=\"\",\"\",'基本情報入力（入力必須）'!$G$3)","v":""},null,"日"]
[]
["請求者情報",null,null,null,null,null,null,null,null,null,null,null,null,null,null,null,null,null,null,null,null,null,null,null,null,null,null,null,null,null,null,"振込先情報"]
["住所",null,null,null,"〒",{"$f":"IF('基本情報入力（入力必須）'!$B$5=\"\",\"\",'基本情報入力（入力必須）'!$B$5)","v":""},null,null,null,null,{"$f":"IF('基本情報入力（入力必須）'!$B$7=\"\",\"\",'基本情報入力（入力必須）'!$B$7)","v":""},null,null,null,null,null,null,null,null,null,null,null,null,null,null,null,null,null,null,null,null,"銀行名",null,null,null,null,{"$f":"IF('基本情報入力（入力必須）'!$B$19=\"\",\"\",'基本情報入力（入力必須）'!$B$19)","v":""},null,null,null,null,null,null,null,null,null,"支店名",null,null,null,null,{"$f":"IF('基本情報入力（入力必須）'!$B$21=\"\",\"\",'基本情報入力（入力必須）'!$B$21)","v":""}]
["会社名",null,null,null,null,{"$f":"IF('基本情報入力（入力必須）'!$B$9=\"\",\"\",'基本情報入力（入力必須）'!$B$9)","v":""},null,null,null,null,null,null,null,null,null,null,null,null,null,null,null,null,null,null,null,null,"㊞",null,null,null,null,"口座種類",null,null,null,null,{"$f":"IF('基本情報入力（入力必須）'!$B$23=\"\",\"\",'基本情報入力（入力必須）'!$B$23)","v":""},null,null,null,null,null,null,null,null,null,"口座番号",null,null,null,null,{"$f":"IF('基本情報入力（入力必須）'!$B$25=\"\",\"\",'基本情報入力（入力必須）'!$B$25)","v":""}]
["代表者名",null,null,null,null,{"$f":"IF('基本情報入力（入力必須）'!$B$11=\"\",\"\",'基本情報入力（入力必須）'!$B$11)","v":""},null,null,null,null,null,null,null,null,null,null,null,null,null,null,null,null,null,null,null,null,null,null,null,null,null,"口座名義",null,null,null,null,{"$f":"IF('基本情報入力（入力必須）'!$B$27=\"\",\"\",'基本情報入力（入力必須）'!$B$27)","v":""}]
["登録番号",null,null,null,null,{"$f":"IF('基本情報入力（入力必須）'!$B$13=\"\",\"\",'基本情報入力（入力必須）'!$B$13)","v":""},null,null,null,null,null,null,null,null,null,null,null,null,null,null,null,null,null,null,null,null,null,null,null,null,null,"※","貴社印を【現場控】及び【本社控】に押印して下さい"]
["電話番号",null,null,null,null,{"$f":"IF('基本情報入力（入力必須）'!$B$15=\"\",\"\",'基本情報入力（入力必須）'!$B$15)","v":""},null,null,null,null,null,null,null,null,null,"FAX番号",null,null,null,null,{"$f":"IF('基本情報入力（入力必須）'!$B$17=\"\",\"\",'基本情報入力（入力必須）'!$B$17)","v":""}]
[]
[{"$f":"IF('基本情報入力（入力必須）'!$E$3=\"\",\"\",'基本情報入力（入力必須）'!$E$3)","v":""},null,null,null,null,"月分請求",null,null,null,null,null,null,null,null,null,"合計金額（税込）",null,null,null,null,null,null,null,null,{"$f":"$AI$31","v":0},null,null,null,null,null,null,null,null,null,null,null,null,null,null,null,null,null,null,null,null,"契約金額"]
[null,null,null,null,null,null,null,null,null,null,null,null,null,null,null,null,null,null,null,null,null,null,null,null,null,null,null,null,null,null,null,null,null,null,null,null,null,null,null,null,null,null,null,null,null,"出来高金額"]
["名称",null,null,null,null,null,null,null,null,null,"仕様・細別",null,null,null,null,null,null,"単位",null,"軽減税\n非課税",null,null,"出来高・納入数量",null,null,null,null,null,"単価",null,null,null,null,null,null,"税率",null,"金額(税抜)",null,null,null,null,null,null,null,"前回迄支払金額"]
[{"$f":"IF($A$20=\"\",\"\",$A$20)","v":""},null,null,null,null,null,null,null,null,null,{"$f":"IF($K$20=\"\",\"\",$K$20)","v":""},null,null,null,null,null,null,{"$f":"IF($R$20=\"\",\"\",$R$20)","v":""},null,{"$f":"IF($T$20=\"\",\"\",$T$20)","v":""},null,null,{"$f":"IF($W$20=\"\",\"\",$W$20)","v":""},null,null,null,null,null,{"$f":"IF($AC$20=\"\",\"\",$AC$20)","v":""},null,null,null,null,null,null,{"$f":"IF($AJ$20=\"\",\"\",$AJ$20)","v":""},null,{"$f":"IF($AL$20=\"\",\"\",$AL$20)","v":""},null,null,null,null,null,null,null,"控除金額"]
[{"$f":"IF($A$21=\"\",\"\",$A$21)","v":""},null,null,null,null,null,null,null,null,null,{"$f":"IF($K$21=\"\",\"\",$K$21)","v":""},null,null,null,null,null,null,{"$f":"IF($R$21=\"\",\"\",$R$21)","v":"　"},null,{"$f":"IF($T$21=\"\",\"\",$T$21)","v":""},null,null,{"$f":"IF($W$21=\"\",\"\",$W$21)","v":""},null,null,null,null,null,{"$f":"IF($AC$21=\"\",\"\",$AC$21)","v":""},null,null,null,null,null,null,{"$f":"IF($AJ$21=\"\",\"\",$AJ$21)","v":""},null,{"$f":"IF($AL$21=\"\",\"\",$AL$21)","v":""},null,null,null,null,null,null,null,"今回支払金額"]
[{"$f":"IF($A$22=\"\",\"\",$A$22)","v":""},null,null,null,null,null,null,null,null,null,{"$f":"IF($K$22=\"\",\"\",$K$22)","v":""},null,null,null,null,null,null,{"$f":"IF($R$22=\"\",\"\",$R$22)","v":"　"},null,{"$f":"IF($T$22=\"\",\"\",$T$22)","v":""},null,null,{"$f":"IF($W$22=\"\",\"\",$W$22)","v":""},null,null,null,null,null,{"$f":"IF($AC$22=\"\",\"\",$AC$22)","v":""},null,null,null,null,null,null,{"$f":"IF($AJ$22=\"\",\"\",$AJ$22)","v":""},null,{"$f":"IF($AL$22=\"\",\"\",$AL$22)","v":""},null,null,null,null,null,null,null,"未払金","保留金額"]
[{"$f":"IF($A$23=\"\",\"\",$A$23)","v":""},null,null,null,null,null,null,null,null,null,{"$f":"IF($K$23=\"\",\"\",$K$23)","v":""},null,null,null,null,null,null,{"$f":"IF($R$23=\"\",\"\",$R$23)","v":"　"},null,{"$f":"IF($T$23=\"\",\"\",$T$23)","v":""},null,null,{"$f":"IF($W$23=\"\",\"\",$W$23)","v":""},null,null,null,null,null,{"$f":"IF($AC$23=\"\",\"\",$AC$23)","v":""},null,null,null,null,null,null,{"$f":"IF($AJ$23=\"\",\"\",$AJ$23)","v":""},null,{"$f":"IF($AL$23=\"\",\"\",$AL$23)","v":""},null,null,null,null,null,null,null,null,"差引契約金額"]
[{"$f":"IF($A$24=\"\",\"\",$A$24)","v":""},null,null,null,null,null,null,null,null,null,{"$f":"IF($K$24=\"\",\"\",$K$24)","v":""},null,null,null,null,null,null,{"$f":"IF($R$24=\"\",\"\",$R$24)","v":"　"},null,{"$f":"IF($T$24=\"\",\"\",$T$24)","v":""},null,null,{"$f":"IF($W$24=\"\",\"\",$W$24)","v":""},null,null,null,null,null,{"$f":"IF($AC$24=\"\",\"\",$AC$24)","v":""},null,null,null,null,null,null,{"$f":"IF($AJ$24=\"\",\"\",$AJ$24)","v":""},null,{"$f":"IF($AL$24=\"\",\"\",$AL$24)","v":""}]
[{"$f":"IF($A$25=\"\",\"\",$A$25)","v":""},null,null,null,null,null,null,null,null,null,{"$f":"IF($K$25=\"\",\"\",$K$25)","v":""},null,null,null,null,null,null,{"$f":"IF($R$25=\"\",\"\",$R$25)","v":"　"},null,{"$f":"IF($T$25=\"\",\"\",$T$25)","v":""},null,null,{"$f":"IF($W$25=\"\",\"\",$W$25)","v":""},null,null,null,null,null,{"$f":"IF($AC$25=\"\",\"\",$AC$25)","v":""},null,null,null,null,null,null,{"$f":"IF($AJ$25=\"\",\"\",$AJ$25)","v":""},null,{"$f":"IF($AL$25=\"\",\"\",$AL$25)","v":""},null,null,null,null,null,null,null,"備　　　　　　　　　考"]
[{"$f":"IF($A$26=\"\",\"\",$A$26)","v":""},null,null,null,null,null,null,null,null,null,{"$f":"IF($K$26=\"\",\"\",$K$26)","v":""},null,null,null,null,null,null,{"$f":"IF($R$26=\"\",\"\",$R$26)","v":"　"},null,{"$f":"IF($T$26=\"\",\"\",$T$26)","v":""},null,null,{"$f":"IF($W$26=\"\",\"\",$W$26)","v":""},null,null,null,null,null,{"$f":"IF($AC$26=\"\",\"\",$AC$26)","v":""},null,null,null,null,null,null,{"$f":"IF($AJ$26=\"\",\"\",$AJ$26)","v":""},null,{"$f":"IF($AL$26=\"\",\"\",$AL$26)","v":""},null,null,null,null,null,null,null,"引去金",null,null,null,null,null,null,"あ　り　　・　　な　し"]
[{"$f":"IF($A$27=\"\",\"\",$A$27)","v":""},null,null,null,null,null,null,null,null,null,{"$f":"IF($K$27=\"\",\"\",$K$27)","v":""},null,null,null,null,null,null,{"$f":"IF($R$27=\"\",\"\",$R$27)","v":"　"},null,{"$f":"IF($T$27=\"\",\"\",$T$27)","v":""},null,null,{"$f":"IF($W$27=\"\",\"\",$W$27)","v":""},null,null,null,null,null,{"$f":"IF($AC$27=\"\",\"\",$AC$27)","v":""},null,null,null,null,null,null,{"$f":"IF($AJ$27=\"\",\"\",$AJ$27)","v":""},null,{"$f":"IF($AL$27=\"\",\"\",$AL$27)","v":""},null,null,null,null,null,null,null,"業者名"]
[]
[null,"税率区分",null,null,null,null,"金額",null,null,null,null,"消費税",null,null,null,null,null,null,null,"非課税合計",null,null,null,null,null,null,null,"小計(税抜)",null,null,null,null,null,null,{"$f":"IF($AI$29=\"\",\"\",$AI$29)","v":0}]
[null,"10%対象",null,null,null,null,{"$f":"IF($G$30=\"\",\"\",$G$30)","v":0},null,null,null,null,{"$f":"IF($L$30=\"\",\"\",$L$30)","v":0},null,null,null,null,null,null,null,{"$f":"IF($T$30=\"\",\"\",$T$30)","v":0},null,null,null,null,null,null,null,"消費税合計",null,null,null,null,null,null,{"$f":"IF($AI$30=\"\",\"\",$AI$30)","v":0}]
[null,"8%対象",null,null,null,null,{"$f":"IF($G$31=\"\",\"\",$G$31)","v":0},null,null,null,null,{"$f":"IF($L$31=\"\",\"\",$L$31)","v":0},null,null,null,null,null,null,null,null,null,null,null,null,null,null,null,"合計(小計+消費税)",null,null,null,null,null,null,{"$f":"IF($AI$31=\"\",\"\",$AI$31)","v":0}]
[]
[null,null,null,null,null,null,null,null,null,null,null,null,null,null,null,null,null,null,null,null,null,null,null,null,null,null,null,null,null,null,null,null,null,null,null,null,null,null,null,null,null,null,null,null,null,null,null,null,null,null,null,null,null,null,null,"本　社　控"]
["　請　　　求　　　書　"]
[]
["㈱　有　迫　組　御中",null,null,null,null,null,null,null,null,null,null,null,null,null,null,null,null,"工事番号",null,null,null,{"$f":"IF('基本情報入力（入力必須）'!$B$31=\"\",\"\",'基本情報入力（入力必須）'!$B$31)","v":""},null,null,null,null,null,null,null,null,null,null,null,null,null,null,null,null,null,null,null,null,null,"社　長",null,null,"専　務",null,null,"常　務",null,null,"経　理",null,null,"経　理",null,null,"作業所長"]
[]
[null,"下記の通り請求致します",null,null,null,null,null,null,null,null,null,null,null,null,null,null,null,"工事名",null,null,null,{"$f":"IF('基本情報入力（入力必須）'!$B$29=\"\",\"\",'基本情報入力（入力必須）'!$B$29)","v":""}]
[]
[null,null,{"$f":"IF('基本情報入力（入力必須）'!$C$3=\"\",\"\",'基本情報入力（入力必須）'!$C$3)","v":""},null,null,null,"年",null,{"$f":"IF('基本情報入力（入力必須）'!$E$3=\"\",\"\",'基本情報入力（入力必須）'!$E$3)","v":""},null,"月",null,{"$f":"IF('基本情報入力（入力必須）'!$G$3=\"\",\"\",'基本情報入力（入力必須）'!$G$3)","v":""},null,"日"]
[]
["請求者情報",null,null,null,null,null,null,null,null,null,null,null,null,null,null,null,null,null,null,null,null,null,null,null,null,null,null,null,null,null,null,"振込先情報"]
["住所",null,null,null,"〒",{"$f":"IF('基本情報入力（入力必須）'!$B$5=\"\",\"\",'基本情報入力（入力必須）'!$B$5)","v":""},null,null,null,null,{"$f":"IF('基本情報入力（入力必須）'!$B$7=\"\",\"\",'基本情報入力（入力必須）'!$B$7)","v":""},null,null,null,null,null,null,null,null,null,null,null,null,null,null,null,null,null,null,null,null,"銀行名",null,null,null,null,{"$f":"IF('基本情報入力（入力必須）'!$B$19=\"\",\"\",'基本情報入力（入力必須）'!$B$19)","v":""},null,null,null,null,null,null,null,null,null,"支店名",null,null,null,null,{"$f":"IF('基本情報入力（入力必須）'!$B$21=\"\",\"\",'基本情報入力（入力必須）'!$B$21)","v":""}]
["会社名",null,null,null,null,{"$f":"IF('基本情報入力（入力必須）'!$B$9=\"\",\"\",'基本情報入力（入力必須）'!$B$9)","v":""},null,null,null,null,null,null,null,null,null,null,null,null,null,null,null,null,null,null,null,null,"㊞",null,null,null,null,"口座種類",null,null,null,null,{"$f":"IF('基本情報入力（入力必須）'!$B$23=\"\",\"\",'基本情報入力（入力必須）'!$B$23)","v":""},null,null,null,null,null,null,null,null,null,"口座番号",null,null,null,null,{"$f":"IF('基本情報入力（入力必須）'!$B$25=\"\",\"\",'基本情報入力（入力必須）'!$B$25)","v":""}]
["代表者名",null,null,null,null,{"$f":"IF('基本情報入力（入力必須）'!$B$11=\"\",\"\",'基本情報入力（入力必須）'!$B$11)","v":""},null,null,null,null,null,null,null,null,null,null,null,null,null,null,null,null,null,null,null,null,null,null,null,null,null,"口座名義",null,null,null,null,{"$f":"IF('基本情報入力（入力必須）'!$B$27=\"\",\"\",'基本情報入力（入力必須）'!$B$27)","v":""}]
["登録番号",null,null,null,null,{"$f":"IF('基本情報入力（入力必須）'!$B$13=\"\",\"\",'基本情報入力（入力必須）'!$B$13)","v":""},null,null,null,null,null,null,null,null,null,null,null,null,null,null,null,null,null,null,null,null,null,null,null,null,null,"※","貴社印を【現場控】及び【本社控】に押印して下さい"]
["電話番号",null,null,null,null,{"$f":"IF('基本情報入力（入力必須）'!$B$15=\"\",\"\",'基本情報入力（入力必須）'!$B$15)","v":""},null,null,null,null,null,null,null,null,null,"FAX番号",null,null,null,null,{"$f":"IF('基本情報入力（入力必須）'!$B$17=\"\",\"\",'基本情報入力（入力必須）'!$B$17)","v":""}]
[]
[{"$f":"IF('基本情報入力（入力必須）'!$E$3=\"\",\"\",'基本情報入力（入力必須）'!$E$3)","v":""},null,null,null,null,"月分請求",null,null,null,null,null,null,null,null,null,"合計金額（税込）",null,null,null,null,null,null,null,null,{"$f":"$AI$31","v":0},null,null,null,null,null,null,null,null,null,null,null,null,null,null,null,null,null,null,null,null,"契約金額"]
[null,null,null,null,null,null,null,null,null,null,null,null,null,null,null,null,null,null,null,null,null,null,null,null,null,null,null,null,null,null,null,null,null,null,null,null,null,null,null,null,null,null,null,null,null,"出来高金額"]
["名称",null,null,null,null,null,null,null,null,null,"仕様・細別",null,null,null,null,null,null,"単位",null,"軽減税\n非課税",null,null,"出来高・納入数量",null,null,null,null,null,"単価",null,null,null,null,null,null,"税率",null,"金額(税抜)",null,null,null,null,null,null,null,"前回迄支払金額"]
[{"$f":"IF($A$20=\"\",\"\",$A$20)","v":""},null,null,null,null,null,null,null,null,null,{"$f":"IF($K$20=\"\",\"\",$K$20)","v":""},null,null,null,null,null,null,{"$f":"IF($R$20=\"\",\"\",$R$20)","v":""},null,{"$f":"IF($T$20=\"\",\"\",$T$20)","v":""},null,null,{"$f":"IF($W$20=\"\",\"\",$W$20)","v":""},null,null,null,null,null,{"$f":"IF($AC$20=\"\",\"\",$AC$20)","v":""},null,null,null,null,null,null,{"$f":"IF($AJ$20=\"\",\"\",$AJ$20)","v":""},null,{"$f":"IF($AL$20=\"\",\"\",$AL$20)","v":""},null,null,null,null,null,null,null,"控除金額"]
[{"$f":"IF($A$21=\"\",\"\",$A$21)","v":""},null,null,null,null,null,null,null,null,null,{"$f":"IF($K$21=\"\",\"\",$K$21)","v":""},null,null,null,null,null,null,{"$f":"IF($R$21=\"\",\"\",$R$21)","v":"　"},null,{"$f":"IF($T$21=\"\",\"\",$T$21)","v":""},null,null,{"$f":"IF($W$21=\"\",\"\",$W$21)","v":""},null,null,null,null,null,{"$f":"IF($AC$21=\"\",\"\",$AC$21)","v":""},null,null,null,null,null,null,{"$f":"IF($AJ$21=\"\",\"\",$AJ$21)","v":""},null,{"$f":"IF($AL$21=\"\",\"\",$AL$21)","v":""},null,null,null,null,null,null,null,"今回支払金額"]
[{"$f":"IF($A$22=\"\",\"\",$A$22)","v":""},null,null,null,null,null,null,null,null,null,{"$f":"IF($K$22=\"\",\"\",$K$22)","v":""},null,null,null,null,null,null,{"$f":"IF($R$22=\"\",\"\",$R$22)","v":"　"},null,{"$f":"IF($T$22=\"\",\"\",$T$22)","v":""},null,null,{"$f":"IF($W$22=\"\",\"\",$W$22)","v":""},null,null,null,null,null,{"$f":"IF($AC$22=\"\",\"\",$AC$22)","v":""},null,null,null,null,null,null,{"$f":"IF($AJ$22=\"\",\"\",$AJ$22)","v":""},null,{"$f":"IF($AL$22=\"\",\"\",$AL$22)","v":""},null,null,null,null,null,null,null,"未払金","保留金額"]
[{"$f":"IF($A$23=\"\",\"\",$A$23)","v":""},null,null,null,null,null,null,null,null,null,{"$f":"IF($K$23=\"\",\"\",$K$23)","v":""},null,null,null,null,null,null,{"$f":"IF($R$23=\"\",\"\",$R$23)","v":"　"},null,{"$f":"IF($T$23=\"\",\"\",$T$23)","v":""},null,null,{"$f":"IF($W$23=\"\",\"\",$W$23)","v":""},null,null,null,null,null,{"$f":"IF($AC$23=\"\",\"\",$AC$23)","v":""},null,null,null,null,null,null,{"$f":"IF($AJ$23=\"\",\"\",$AJ$23)","v":""},null,{"$f":"IF($AL$23=\"\",\"\",$AL$23)","v":""},null,null,null,null,null,null,null,null,"差引契約金額"]
[{"$f":"IF($A$24=\"\",\"\",$A$24)","v":""},null,null,null,null,null,null,null,null,null,{"$f":"IF($K$24=\"\",\"\",$K$24)","v":""},null,null,null,null,null,null,{"$f":"IF($R$24=\"\",\"\",$R$24)","v":"　"},null,{"$f":"IF($T$24=\"\",\"\",$T$24)","v":""},null,null,{"$f":"IF($W$24=\"\",\"\",$W$24)","v":""},null,null,null,null,null,{"$f":"IF($AC$24=\"\",\"\",$AC$24)","v":""},null,null,null,null,null,null,{"$f":"IF($AJ$24=\"\",\"\",$AJ$24)","v":""},null,{"$f":"IF($AL$24=\"\",\"\",$AL$24)","v":""}]
[{"$f":"IF($A$25=\"\",\"\",$A$25)","v":""},null,null,null,null,null,null,null,null,null,{"$f":"IF($K$25=\"\",\"\",$K$25)","v":""},null,null,null,null,null,null,{"$f":"IF($R$25=\"\",\"\",$R$25)","v":"　"},null,{"$f":"IF($T$25=\"\",\"\",$T$25)","v":""},null,null,{"$f":"IF($W$25=\"\",\"\",$W$25)","v":""},null,null,null,null,null,{"$f":"IF($AC$25=\"\",\"\",$AC$25)","v":""},null,null,null,null,null,null,{"$f":"IF($AJ$25=\"\",\"\",$AJ$25)","v":""},null,{"$f":"IF($AL$25=\"\",\"\",$AL$25)","v":""},null,null,null,null,null,null,null,"支払方法","現金",null,"%",null,null,"　　　　　　　　　　　    　　　"]
[{"$f":"IF($A$26=\"\",\"\",$A$26)","v":""},null,null,null,null,null,null,null,null,null,{"$f":"IF($K$26=\"\",\"\",$K$26)","v":""},null,null,null,null,null,null,{"$f":"IF($R$26=\"\",\"\",$R$26)","v":"　"},null,{"$f":"IF($T$26=\"\",\"\",$T$26)","v":""},null,null,{"$f":"IF($W$26=\"\",\"\",$W$26)","v":""},null,null,null,null,null,{"$f":"IF($AC$26=\"\",\"\",$AC$26)","v":""},null,null,null,null,null,null,{"$f":"IF($AJ$26=\"\",\"\",$AJ$26)","v":""},null,{"$f":"IF($AL$26=\"\",\"\",$AL$26)","v":""},null,null,null,null,null,null,null,null,"手形",null,"%",null,null,"　　　　　　　　　　   　 　　　"]
[{"$f":"IF($A$27=\"\",\"\",$A$27)","v":""},null,null,null,null,null,null,null,null,null,{"$f":"IF($K$27=\"\",\"\",$K$27)","v":""},null,null,null,null,null,null,{"$f":"IF($R$27=\"\",\"\",$R$27)","v":"　"},null,{"$f":"IF($T$27=\"\",\"\",$T$27)","v":""},null,null,{"$f":"IF($W$27=\"\",\"\",$W$27)","v":""},null,null,null,null,null,{"$f":"IF($AC$27=\"\",\"\",$AC$27)","v":""},null,null,null,null,null,null,{"$f":"IF($AJ$27=\"\",\"\",$AJ$27)","v":""},null,{"$f":"IF($AL$27=\"\",\"\",$AL$27)","v":""},null,null,null,null,null,null,null,null,null,null,"※支払方法は経理で記入"]
[null,null,null,null,null,null,null,null,null,null,null,null,null,null,null,null,null,null,null,null,null,null,null,null,null,null,null,null,null,null,null,null,null,null,null,null,null,null,null,null,null,null,null,null,null,"備　　　　　　　　　考"]
[null,"税率区分",null,null,null,null,"金額",null,null,null,null,"消費税",null,null,null,null,null,null,null,"非課税合計",null,null,null,null,null,null,null,"小計(税抜)",null,null,null,null,null,null,{"$f":"IF($AI$29=\"\",\"\",$AI$29)","v":0},null,null,null,null,null,null,null,null,null,null,"引去金",null,null,null,null,null,"あ　り　　・　　な　し"]
[null,"10%対象",null,null,null,null,{"$f":"IF($G$30=\"\",\"\",$G$30)","v":0},null,null,null,null,{"$f":"IF($L$30=\"\",\"\",$L$30)","v":0},null,null,null,null,null,null,null,{"$f":"IF($T$30=\"\",\"\",$T$30)","v":0},null,null,null,null,null,null,null,"消費税合計",null,null,null,null,null,null,{"$f":"IF($AI$30=\"\",\"\",$AI$30)","v":0},null,null,null,null,null,null,null,null,null,null,"業者名"]
[null,"8%対象",null,null,null,null,{"$f":"IF($G$31=\"\",\"\",$G$31)","v":0},null,null,null,null,{"$f":"IF($L$31=\"\",\"\",$L$31)","v":0},null,null,null,null,null,null,null,null,null,null,null,null,null,null,null,"合計(小計+消費税)",null,null,null,null,null,null,{"$f":"IF($AI$31=\"\",\"\",$AI$31)","v":0},null,null,null,null,null,null,null,null,null,null,"備考"]

{"sheet":"明細書","index":2,"n_rows":105,"n_cols":8,"rows_kept":105,"cut":false,"hidden":false,"merged":[[20,0,20,6],[41,0,41,6],[1,3,1,7],[22,3,22,7],[43,3,43,7],[62,0,62,6],[83,0,83,6],[104,0,104,6],[64,3,64,7],[85,3,85,7]]}
[]
[{"$f":"IF('基本情報入力（入力必須）'!$E$3=\"\",\"\",'基本情報入力（入力必須）'!$E$3)","v":""},"月分明細書","工事名",{"$f":"IF('基本情報入力（入力必須）'!$B$29=\"\",\"\",'基本情報入力（入力必須）'!$B$29)","v":""}]
["名称","仕様、細別","単位","軽減税\n非課税","出来高・納入数量","単価","税率","金額(税抜)"]
[null,null,"　",null,null,null,{"$f":"_xlfn.IFS($A$4=\"\", \"\", $D$4=\"\", 10%, $D$4=\"※8%\", 8%,$D$4=\"※非課税\",0%)","v":""},{"$f":"IF(E4=\"\",IF(F4=\"\",\"\",F4),ROUND(E4*F4,0))","v":""}]
[null,null,"　",null,null,null,{"$f":"_xlfn.IFS($A$5=\"\", \"\", $D$5=\"\", 10%, $D$5=\"※8%\", 8%,$D$5=\"※非課税\",0%)","v":""},""]
[null,null,"　",null,null,null,{"$f":"_xlfn.IFS($A$6=\"\", \"\", $D$6=\"\", 10%, $D$6=\"※8%\", 8%,$D$6=\"※非課税\",0%)","v":""},""]
[null,null,"　",null,null,null,{"$f":"_xlfn.IFS($A$7=\"\", \"\", $D$7=\"\", 10%, $D$7=\"※8%\", 8%,$D$7=\"※非課税\",0%)","v":""},""]
[null,null,"　",null,null,null,{"$f":"_xlfn.IFS($A$8=\"\", \"\", $D$8=\"\", 10%, $D$8=\"※8%\", 8%,$D$8=\"※非課税\",0%)","v":""},""]
[null,null,"　",null,null,null,{"$f":"_xlfn.IFS($A$9=\"\", \"\", $D$9=\"\", 10%, $D$9=\"※8%\", 8%,$D$9=\"※非課税\",0%)","v":""},""]
[null,null,"　",null,null,null,{"$f":"_xlfn.IFS($A$10=\"\", \"\", $D$10=\"\", 10%, $D$10=\"※8%\", 8%,$D$10=\"※非課税\",0%)","v":""},""]
[null,null,"　",null,null,null,{"$f":"_xlfn.IFS($A$11=\"\", \"\", $D$11=\"\", 10%, $D$11=\"※8%\", 8%,$D$11=\"※非課税\",0%)","v":""},""]
[null,null,"　",null,null,null,{"$f":"_xlfn.IFS($A$12=\"\", \"\", $D$12=\"\", 10%, $D$12=\"※8%\", 8%,$D$12=\"※非課税\",0%)","v":""},""]
[null,null,"　",null,null,null,{"$f":"_xlfn.IFS($A$13=\"\", \"\", $D$13=\"\", 10%, $D$13=\"※8%\", 8%,$D$13=\"※非課税\",0%)","v":""},""]
[null,null,"　",null,null,null,{"$f":"_xlfn.IFS($A$14=\"\", \"\", $D$14=\"\", 10%, $D$14=\"※8%\", 8%,$D$14=\"※非課税\",0%)","v":""},""]
[null,null,"　",null,null,null,{"$f":"_xlfn.IFS($A$15=\"\", \"\", $D$15=\"\", 10%, $D$15=\"※8%\", 8%,$D$15=\"※非課税\",0%)","v":""},""]
[null,null,"　",null,null,null,{"$f":"_xlfn.IFS($A$16=\"\", \"\", $D$16=\"\", 10%, $D$16=\"※8%\", 8%,$D$16=\"※非課税\",0%)","v":""},""]
[null,null,"　",null,null,null,{"$f":"_xlfn.IFS($A$17=\"\", \"\", $D$17=\"\", 10%, $D$17=\"※8%\", 8%,$D$17=\"※非課税\",0%)","v":""},""]
[null,null,"　",null,null,null,{"$f":"_xlfn.IFS($A$18=\"\", \"\", $D$18=\"\", 10%, $D$18=\"※8%\", 8%,$D$18=\"※非課税\",0%)","v":""},""]
[null,null,"　",null,null,null,{"$f":"_xlfn.IFS($A$19=\"\", \"\", $D$19=\"\", 10%, $D$19=\"※8%\", 8%,$D$19=\"※非課税\",0%)","v":""},""]
[null,null,"　",null,null,null,{"$f":"_xlfn.IFS($A$20=\"\", \"\", $D$20=\"\", 10%, $D$20=\"※8%\", 8%,$D$20=\"※非課税\",0%)","v":""},""]
["小計（税抜）",null,null,null,null,null,null,{"$f":"IF(H4=\"\",\"\",SUM(H4:H20))","v":""}]
[]
[{"$f":"IF('基本情報入力（入力必須）'!$E$3=\"\",\"\",'基本情報入力（入力必須）'!$E$3)","v":""},"月分明細書","工事名",{"$f":"IF('基本情報入力（入力必須）'!$B$29=\"\",\"\",'基本情報入力（入力必須）'!$B$29)","v":""}]
["名称","仕様、細別","単位","軽減税\n非課税","出来高・納入数量","単価","税率","金額(税抜)"]
[null,null,null,null,null,null,{"$f":"_xlfn.IFS($A$25=\"\", \"\", $D$25=\"\", 10%, $D$25=\"※8%\", 8%,$D$25=\"※非課税\",0%)","v":""},{"$f":"IF(E25=\"\",IF(F25=\"\",\"\",F25),ROUND(E25*F25,0))","v":""}]
[null,null,null,null,null,null,{"$f":"_xlfn.IFS($A$26=\"\", \"\", $D$26=\"\", 10%, $D$26=\"※8%\", 8%,$D$26=\"※非課税\",0%)","v":""},""]
[null,null,null,null,null,null,{"$f":"_xlfn.IFS($A$27=\"\", \"\", $D$27=\"\", 10%, $D$27=\"※8%\", 8%,$D$27=\"※非課税\",0%)","v":""},""]
[null,null,null,null,null,null,{"$f":"_xlfn.IFS($A$28=\"\", \"\", $D$28=\"\", 10%, $D$28=\"※8%\", 8%,$D$28=\"※非課税\",0%)","v":""},""]
[null,null,null,null,null,null,{"$f":"_xlfn.IFS($A$29=\"\", \"\", $D$29=\"\", 10%, $D$29=\"※8%\", 8%,$D$29=\"※非課税\",0%)","v":""},""]
[null,null,null,null,null,null,{"$f":"_xlfn.IFS($A$30=\"\", \"\", $D$30=\"\", 10%, $D$30=\"※8%\", 8%,$D$30=\"※非課税\",0%)","v":""},""]
[null,null,null,null,null,null,{"$f":"_xlfn.IFS($A$31=\"\", \"\", $D$31=\"\", 10%, $D$31=\"※8%\", 8%,$D$31=\"※非課税\",0%)","v":""},""]
[null,null,null,null,null,null,{"$f":"_xlfn.IFS($A$32=\"\", \"\", $D$32=\"\", 10%, $D$32=\"※8%\", 8%,$D$32=\"※非課税\",0%)","v":""},""]
[null,null,null,null,null,null,{"$f":"_xlfn.IFS($A$33=\"\", \"\", $D$33=\"\", 10%, $D$33=\"※8%\", 8%,$D$33=\"※非課税\",0%)","v":""},""]
[null,null,null,null,null,null,{"$f":"_xlfn.IFS($A$34=\"\", \"\", $D$34=\"\", 10%, $D$34=\"※8%\", 8%,$D$34=\"※非課税\",0%)","v":""},""]
[null,null,null,null,null,null,{"$f":"_xlfn.IFS($A$35=\"\", \"\", $D$35=\"\", 10%, $D$35=\"※8%\", 8%,$D$35=\"※非課税\",0%)","v":""},""]
[null,null,null,null,null,null,{"$f":"_xlfn.IFS($A$36=\"\", \"\", $D$36=\"\", 10%, $D$36=\"※8%\", 8%,$D$36=\"※非課税\",0%)","v":""},""]
[null,null,null,null,null,null,{"$f":"_xlfn.IFS($A$37=\"\", \"\", $D$37=\"\", 10%, $D$37=\"※8%\", 8%,$D$37=\"※非課税\",0%)","v":""},""]
[null,null,null,null,null,null,{"$f":"_xlfn.IFS($A$38=\"\", \"\", $D$38=\"\", 10%, $D$38=\"※8%\", 8%,$D$38=\"※非課税\",0%)","v":""},""]
[null,null,null,null,null,null,{"$f":"_xlfn.IFS($A$39=\"\", \"\", $D$39=\"\", 10%, $D$39=\"※8%\", 8%,$D$39=\"※非課税\",0%)","v":""},""]
[null,null,null,null,null,null,{"$f":"_xlfn.IFS($A$40=\"\", \"\", $D$40=\"\", 10%, $D$40=\"※8%\", 8%,$D$40=\"※非課税\",0%)","v":""},""]
[null,null,null,null,null,null,{"$f":"_xlfn.IFS($A$41=\"\", \"\", $D$41=\"\", 10%, $D$41=\"※8%\", 8%,$D$41=\"※非課税\",0%)","v":""},""]
["小計（税抜）",null,null,null,null,null,null,{"$f":"IF(H25=\"\",\"\",SUM(H25:H41))","v":""}]
[]
[{"$f":"IF('基本情報入力（入力必須）'!$E$3=\"\",\"\",'基本情報入力（入力必須）'!$E$3)","v":""},"月分明細書","工事名",{"$f":"IF('基本情報入力（入力必須）'!$B$29=\"\",\"\",'基本情報入力（入力必須）'!$B$29)","v":""}]
["名称","仕様、細別","単位","軽減税\n非課税","出来高・納入数量","単価","税率","金額(税抜)"]
[null,null,"　",null,null,null,{"$f":"_xlfn.IFS($A$46=\"\", \"\", $D$46=\"\", 10%, $D$46=\"※8%\", 8%,$D$46=\"※非課税\",0%)","v":""},{"$f":"IF(E46=\"\",IF(F46=\"\",\"\",F46),ROUND(E46*F46,0))","v":""}]
[null,null,"　",null,null,null,{"$f":"_xlfn.IFS($A$47=\"\", \"\", $D$47=\"\", 10%, $D$47=\"※8%\", 8%,$D$47=\"※非課税\",0%)","v":""},""]
[null,null,"　",null,null,null,{"$f":"_xlfn.IFS($A$48=\"\", \"\", $D$48=\"\", 10%, $D$48=\"※8%\", 8%,$D$48=\"※非課税\",0%)","v":""},""]
[null,null,"　",null,null,null,{"$f":"_xlfn.IFS($A$49=\"\", \"\", $D$49=\"\", 10%, $D$49=\"※8%\", 8%,$D$49=\"※非課税\",0%)","v":""},""]
[null,null,"　",null,null,null,{"$f":"_xlfn.IFS($A$50=\"\", \"\", $D$50=\"\", 10%, $D$50=\"※8%\", 8%,$D$50=\"※非課税\",0%)","v":""},""]
[null,null,"　",null,null,null,{"$f":"_xlfn.IFS($A$51=\"\", \"\", $D$51=\"\", 10%, $D$51=\"※8%\", 8%,$D$51=\"※非課税\",0%)","v":""},""]
[null,null,"　",null,null,null,{"$f":"_xlfn.IFS($A$52=\"\", \"\", $D$52=\"\", 10%, $D$52=\"※8%\", 8%,$D$52=\"※非課税\",0%)","v":""},""]
[null,null,"　",null,null,null,{"$f":"_xlfn.IFS($A$53=\"\", \"\", $D$53=\"\", 10%, $D$53=\"※8%\", 8%,$D$53=\"※非課税\",0%)","v":""},""]
[null,null,"　",null,null,null,{"$f":"_xlfn.IFS($A$54=\"\", \"\", $D$54=\"\", 10%, $D$54=\"※8%\", 8%,$D$54=\"※非課税\",0%)","v":""},""]
[null,null,"　",null,null,null,{"$f":"_xlfn.IFS($A$55=\"\", \"\", $D$55=\"\", 10%, $D$55=\"※8%\", 8%,$D$55=\"※非課税\",0%)","v":""},""]
[null,null,"　",null,null,null,{"$f":"_xlfn.IFS($A$56=\"\", \"\", $D$56=\"\", 10%, $D$56=\"※8%\", 8%,$D$56=\"※非課税\",0%)","v":""},""]
[null,null,"　",null,null,null,{"$f":"_xlfn.IFS($A$57=\"\", \"\", $D$57=\"\", 10%, $D$57=\"※8%\", 8%,$D$57=\"※非課税\",0%)","v":""},""]
[null,null,"　",null,null,null,{"$f":"_xlfn.IFS($A$58=\"\", \"\", $D$58=\"\", 10%, $D$58=\"※8%\", 8%,$D$58=\"※非課税\",0%)","v":""},""]
[null,null,"　",null,null,null,{"$f":"_xlfn.IFS($A$59=\"\", \"\", $D$59=\"\", 10%, $D$59=\"※8%\", 8%,$D$59=\"※非課税\",0%)","v":""},""]
[null,null,"　",null,null,null,{"$f":"_xlfn.IFS($A$60=\"\", \"\", $D$60=\"\", 10%, $D$60=\"※8%\", 8%,$D$60=\"※非課税\",0%)","v":""},""]
[null,null,"　",null,null,null,{"$f":"_xlfn.IFS($A$61=\"\", \"\", $D$61=\"\", 10%, $D$61=\"※8%\", 8%,$D$61=\"※非課税\",0%)","v":""},""]
[null,null,"　",null,null,null,{"$f":"_xlfn.IFS($A$62=\"\", \"\", $D$62=\"\", 10%, $D$62=\"※8%\", 8%,$D$62=\"※非課税\",0%)","v":""},""]
["小計（税抜）",null,null,null,null,null,null,{"$f":"IF(H46=\"\",\"\",SUM(H46:H62))","v":""}]
[]
[{"$f":"IF('基本情報入力（入力必須）'!$E$3=\"\",\"\",'基本情報入力（入力必須）'!$E$3)","v":""},"月分明細書","工事名",{"$f":"IF('基本情報入力（入力必須）'!$B$29=\"\",\"\",'基本情報入力（入力必須）'!$B$29)","v":""}]
["名称","仕様、細別","単位","軽減税\n非課税","出来高・納入数量","単価","税率","金額(税抜)"]
[null,null,null,null,null,null,{"$f":"_xlfn.IFS($A$67=\"\", \"\", $D$67=\"\", 10%, $D$67=\"※8%\", 8%,$D$67=\"※非課税\",0%)","v":""},{"$f":"IF(E67=\"\",IF(F67=\"\",\"\",F67),ROUND(E67*F67,0))","v":""}]
[null,null,null,null,null,null,{"$f":"_xlfn.IFS($A$68=\"\", \"\", $D$68=\"\", 10%, $D$68=\"※8%\", 8%,$D$68=\"※非課税\",0%)","v":""},""]
[null,null,null,null,null,null,{"$f":"_xlfn.IFS($A$69=\"\", \"\", $D$69=\"\", 10%, $D$69=\"※8%\", 8%,$D$69=\"※非課税\",0%)","v":""},""]
[null,null,null,null,null,null,{"$f":"_xlfn.IFS($A$70=\"\", \"\", $D$70=\"\", 10%, $D$70=\"※8%\", 8%,$D$70=\"※非課税\",0%)","v":""},""]
[null,null,null,null,null,null,{"$f":"_xlfn.IFS($A$71=\"\", \"\", $D$71=\"\", 10%, $D$71=\"※8%\", 8%,$D$71=\"※非課税\",0%)","v":""},""]
[null,null,null,null,null,null,{"$f":"_xlfn.IFS($A$72=\"\", \"\", $D$72=\"\", 10%, $D$72=\"※8%\", 8%,$D$72=\"※非課税\",0%)","v":""},""]
[null,null,null,null,null,null,{"$f":"_xlfn.IFS($A$73=\"\", \"\", $D$73=\"\", 10%, $D$73=\"※8%\", 8%,$D$73=\"※非課税\",0%)","v":""},""]
[null,null,null,null,null,null,{"$f":"_xlfn.IFS($A$74=\"\", \"\", $D$74=\"\", 10%, $D$74=\"※8%\", 8%,$D$74=\"※非課税\",0%)","v":""},""]
[null,null,null,null,null,null,{"$f":"_xlfn.IFS($A$75=\"\", \"\", $D$75=\"\", 10%, $D$75=\"※8%\", 8%,$D$75=\"※非課税\",0%)","v":""},""]
[null,null,null,null,null,null,{"$f":"_xlfn.IFS($A$76=\"\", \"\", $D$76=\"\", 10%, $D$76=\"※8%\", 8%,$D$76=\"※非課税\",0%)","v":""},""]
[null,null,null,null,null,null,{"$f":"_xlfn.IFS($A$77=\"\", \"\", $D$77=\"\", 10%, $D$77=\"※8%\", 8%,$D$77=\"※非課税\",0%)","v":""},""]
[null,null,null,null,null,null,{"$f":"_xlfn.IFS($A$78=\"\", \"\", $D$78=\"\", 10%, $D$78=\"※8%\", 8%,$D$78=\"※非課税\",0%)","v":""},""]
[null,null,null,null,null,null,{"$f":"_xlfn.IFS($A$79=\"\", \"\", $D$79=\"\", 10%, $D$79=\"※8%\", 8%,$D$79=\"※非課税\",0%)","v":""},""]
[null,null,null,null,null,null,{"$f":"_xlfn.IFS($A$80=\"\", \"\", $D$80=\"\", 10%, $D$80=\"※8%\", 8%,$D$80=\"※非課税\",0%)","v":""},""]
[null,null,null,null,null,null,{"$f":"_xlfn.IFS($A$81=\"\", \"\", $D$81=\"\", 10%, $D$81=\"※8%\", 8%,$D$81=\"※非課税\",0%)","v":""},""]
[null,null,null,null,null,null,{"$f":"_xlfn.IFS($A$82=\"\", \"\", $D$82=\"\", 10%, $D$82=\"※8%\", 8%,$D$82=\"※非課税\",0%)","v":""},""]
[null,null,null,null,null,null,{"$f":"_xlfn.IFS($A$83=\"\", \"\", $D$83=\"\", 10%, $D$83=\"※8%\", 8%,$D$83=\"※非課税\",0%)","v":""},""]
["小計（税抜）",null,null,null,null,null,null,{"$f":"IF(H67=\"\",\"\",SUM(H67:H83))","v":""}]
[]
[{"$f":"IF('基本情報入力（入力必須）'!$E$3=\"\",\"\",'基本情報入力（入力必須）'!$E$3)","v":""},"月分明細書","工事名",{"$f":"IF('基本情報入力（入力必須）'!$B$29=\"\",\"\",'基本情報入力（入力必須）'!$B$29)","v":""}]
["名称","仕様、細別","単位","軽減税\n非課税","出来高・納入数量","単価","軽減税率","金額(税抜)"]
[null,null,null,null,null,null,{"$f":"_xlfn.IFS($A$88=\"\", \"\", $D$88=\"\", 10%, $D$88=\"※8%\", 8%,$D$88=\"※非課税\",0%)","v":""},{"$f":"IF(E88=\"\",IF(F88=\"\",\"\",F88),ROUND(E88*F88,0))","v":""}]
[null,null,null,null,null,null,{"$f":"_xlfn.IFS($A$89=\"\", \"\", $D$89=\"\", 10%, $D$89=\"※8%\", 8%,$D$89=\"※非課税\",0%)","v":""},""]
[null,null,null,null,null,null,{"$f":"_xlfn.IFS($A$90=\"\", \"\", $D$90=\"\", 10%, $D$90=\"※8%\", 8%,$D$90=\"※非課税\",0%)","v":""},""]
[null,null,null,null,null,null,{"$f":"_xlfn.IFS($A$91=\"\", \"\", $D$91=\"\", 10%, $D$91=\"※8%\", 8%,$D$91=\"※非課税\",0%)","v":""},""]
[null,null,null,null,null,null,{"$f":"_xlfn.IFS($A$92=\"\", \"\", $D$92=\"\", 10%, $D$92=\"※8%\", 8%,$D$92=\"※非課税\",0%)","v":""},""]
[null,null,null,null,null,null,{"$f":"_xlfn.IFS($A$93=\"\", \"\", $D$93=\"\", 10%, $D$93=\"※8%\", 8%,$D$93=\"※非課税\",0%)","v":""},""]
[null,null,null,null,null,null,{"$f":"_xlfn.IFS($A$94=\"\", \"\", $D$94=\"\", 10%, $D$94=\"※8%\", 8%,$D$94=\"※非課税\",0%)","v":""},""]
[null,null,null,null,null,null,{"$f":"_xlfn.IFS($A$95=\"\", \"\", $D$95=\"\", 10%, $D$95=\"※8%\", 8%,$D$95=\"※非課税\",0%)","v":""},""]
[null,null,null,null,null,null,{"$f":"_xlfn.IFS($A$96=\"\", \"\", $D$96=\"\", 10%, $D$96=\"※8%\", 8%,$D$96=\"※非課税\",0%)","v":""},""]
[null,null,null,null,null,null,{"$f":"_xlfn.IFS($A$97=\"\", \"\", $D$97=\"\", 10%, $D$97=\"※8%\", 8%,$D$97=\"※非課税\",0%)","v":""},""]
[null,null,null,null,null,null,{"$f":"_xlfn.IFS($A$98=\"\", \"\", $D$98=\"\", 10%, $D$98=\"※8%\", 8%,$D$98=\"※非課税\",0%)","v":""},""]
[null,null,null,null,null,null,{"$f":"_xlfn.IFS($A$99=\"\", \"\", $D$99=\"\", 10%, $D$99=\"※8%\", 8%,$D$99=\"※非課税\",0%)","v":""},""]
[null,null,null,null,null,null,{"$f":"_xlfn.IFS($A$100=\"\", \"\", $D$100=\"\", 10%, $D$100=\"※8%\", 8%,$D$100=\"※非課税\",0%)","v":""},""]
[null,null,null,null,null,null,{"$f":"_xlfn.IFS($A$101=\"\", \"\", $D$101=\"\", 10%, $D$101=\"※8%\", 8%,$D$101=\"※非課税\",0%)","v":""},""]
[null,null,null,null,null,null,{"$f":"_xlfn.IFS($A$102=\"\", \"\", $D$102=\"\", 10%, $D$102=\"※8%\", 8%,$D$102=\"※非課税\",0%)","v":""},""]
[null,null,null,null,null,null,{"$f":"_xlfn.IFS($A$103=\"\", \"\", $D$103=\"\", 10%, $D$103=\"※8%\", 8%,$D$103=\"※非課税\",0%)","v":""},""]
[null,null,null,null,null,null,{"$f":"_xlfn.IFS($A$104=\"\", \"\", $D$104=\"\", 10%, $D$104=\"※8%\", 8%,$D$104=\"※非課税\",0%)","v":""},""]
["小計（税抜）",null,null,null,null,null,null,{"$f":"IF(H88=\"\",\"\",SUM(H88:H104))","v":""}]