{"text_format":"1","workbook":"xlsx","n_sheets":3,"sheets":["基本情報入力（入力必須）","請求書","明細書"],"not_rendered":{"charts":0,"images":0,"macros":1,"external_links":0,"defined_names":1,"comments":0,"pivot_tables":0},"unopened":[],"bounds":{"document_bytes":16777216,"sheet_cells":100000,"rows_first":2000,"rows_last":500,"rows_between":2000,"halvings":0,"cell_chars":16384,"cell_head_chars":4096},"cells_cut":0,"cells_raw":0,"read":"whole","date_system":"1900"}

{"sheet":"基本情報入力（入力必須）","index":0,"n_rows":95,"n_cols":9,"rows_kept":95,"cut":false,"hidden":false,"merged":[[28,1,28,7],[0,0,0,7],[22,1,22,7],[26,1,26,7],[12,1,12,7],[14,1,14,7],[16,1,16,7],[18,1,18,7],[20,1,20,7],[4,1,4,7],[6,1,6,7],[8,1,8,7],[10,1,10,7],[24,1,24,7]]}
["基本事項入力（貴社情報）"]
[]
["①請求日（月末）","西暦",null,"年",null,"月",null,"日"]
[]
["②郵便番号"]
[]
["③会社住所"]
[]
["④会社名"]
[]
["⑤代表者名"]
[]
["⑥電話番号(半角)",null,null,null,null,null,null,null,"※市外局番、市内局番の後にハイフン（‐）を入れて下さい"]
[]
["⑦FAX番号(半角)",null,null,null,null,null,null,null,"※市外局番、市内局番の後にハイフン（‐）を入れて下さい"]
[]
["⑧銀行名"]
[]
["⑨支店名"]
[]
["⑩口座の種類（普通or当座）"]
[]
["⑪口座番号"]
[]
["⑫口座名義（カタカナ）"]
[]
["⑬契約工事名"]
[]
["⑭契約工事番号",null,null,null,null,null,null,null,"※契約工事番号は現場代理人が入力します"]
[]
[]
[]
[]
[]
[]
[]
[]
[]
[]
[]
[]
[]
[]
[]
[]
[]
[]
[]
[]
[]
[]
[]
[]
[]
[]
[]
[]
[]
[]
[]
[]
[]
[]
[null,2017,1,null,"末"]
[null,2018,2,null,1]
[null,2019,3,null,2]
[null,2020,4,null,3]
[null,2021,5,null,4]
[null,2022,6,null,5]
[null,2023,7,null,6]
[null,2024,8,null,7]
[null,2025,9,null,8]
[null,2026,10,null,9]
[null,2027,11,null,10]
[null,2028,12,null,11]
[null,2029,null,null,12]
[null,2030,null,null,13]
[null,2031,null,null,14]
[null,2032,null,null,15]
[null,2033,null,null,16]
[null,2034,null,null,17]
[null,2035,null,null,18]
[null,null,null,null,19]
[null,null,null,null,20]
[null,null,null,null,21]
[null,null,null,null,22]
[null,null,null,null,23]
[null,null,null,null,24]
[null,null,null,null,25]
[null,null,null,null,26]
[null,null,null,null,27]
[null,null,null,null,28]
[null,null,null,null,29]
[null,null,null,null,30]
[null,null,null,null,31]

{"sheet":"請求書","index":1,"n_rows":89,"n_cols":59,"rows_kept":89,"cut":false,"hidden":false,"merged":[[42,31,42,34],[18,58,18,60],[21,55,21,57],[16,58,16,60],[17,58,17,60],[54,51,54,60],[33,45,37,56],[51,58,51,60],[49,58,49,60],[50,58,50,60],[53,45,53,60],[21,58,21,60],[46,45,46,51],[47,45,47,51],[21,36,21,43],[17,45,17,51],[55,45,55,50],[0,55,0,60],[75,55,75,57],[75,58,75,60],[76,55,76,57],[77,55,77,57],[78,55,78,57],[19,52,19,54],[20,52,20,54],[21,52,21,54],[76,58,76,60],[77,58,77,60],[78,58,78,60],[70,51,70,60],[71,51,71,60],[75,52,75,54],[76,52,76,54],[55,51,55,60],[46,52,46,54],[47,52,47,54],[46,58,46,60],[39,31,39,60],[51,52,51,54],[49,55,49,57],[67,6,67,7],[67,8,67,9],[67,10,67,11],[67,12,67,13],[67,14,67,15],[73,15,73,18],[73,0,73,3],[71,5,71,25],[72,5,72,25],[70,0,70,3],[79,52,79,54],[80,52,80,54],[71,46,71,49],[57,36,57,43],[57,45,57,60],[58,45,58,60],[54,45,54,50],[56,45,56,60],[56,36,56,43],[80,45,81,45],[79,45,79,51],[79,36,79,43],[80,58,80,60],[80,46,80,51],[65,58,67,60],[77,36,77,43],[79,58,79,60],[79,55,79,57],[80,55,80,57],[80,36,80,43],[75,26,76,43],[71,36,71,45],[70,31,70,34],[70,46,70,49],[88,45,88,50],[88,51,88,60],[86,36,86,43],[86,45,86,60],[87,45,87,50],[87,51,87,60],[84,51,84,59],[81,58,81,60],[85,48,85,60],[81,55,81,57],[83,51,83,59],[81,46,81,51],[81,36,81,43],[84,36,84,43],[81,52,81,54],[84,48,84,50],[83,46,83,47],[84,46,84,47],[83,48,83,50],[83,45,85,45],[83,36,83,43],[63,43,64,45],[77,45,77,51],[78,45,78,51],[75,45,75,51],[76,45,76,51],[77,52,77,54],[78,52,78,54],[78,36,78,43],[24,36,24,43],[35,21,37,42],[42,36,42,60],[26,45,26,60],[27,45,27,60],[28,45,28,60],[40,36,40,45],[40,51,40,60],[41,46,41,49],[77,21,77,27],[57,0,57,35],[58,0,58,35],[49,45,49,51],[50,46,50,51],[51,46,51,51],[45,26,46,43],[49,10,49,18],[69,31,69,60],[45,58,45,60],[45,15,46,25],[45,52,45,54],[47,58,47,60],[46,55,46,57],[65,46,67,48],[65,55,67,57],[63,55,64,57],[50,45,51,45],[47,55,47,57],[48,55,48,57],[45,45,45,51],[55,0,55,43],[56,0,56,35],[53,28,53,35],[53,36,53,43],[65,43,67,45],[65,49,67,51],[65,52,67,54],[45,0,46,4],[45,5,46,14],[47,10,47,18],[10,36,10,45],[41,26,42,29],[73,20,73,29],[70,36,70,45],[72,31,72,34],[39,0,39,29],[41,5,41,25],[42,5,42,25],[43,5,43,14],[43,20,43,29],[43,15,43,18],[43,0,43,3],[50,10,50,18],[51,10,51,18],[19,19,19,20],[31,0,31,60],[26,36,26,43],[27,36,27,43],[13,0,13,3],[13,15,13,18],[12,31,12,34],[10,0,10,3],[11,0,11,3],[12,0,12,3],[24,21,24,27],[17,0,17,9],[18,0,18,9],[19,0,19,9],[20,0,20,9],[15,26,16,43],[15,5,16,14],[11,5,11,25],[12,5,12,25],[13,20,13,29],[20,36,20,43],[24,10,24,18],[24,19,24,20],[24,28,24,35],[23,10,23,18],[23,19,23,20],[20,19,20,20],[23,36,23,43],[17,21,17,27],[15,15,16,25],[17,36,17,43],[17,28,17,35],[13,5,13,14],[72,36,72,60],[54,19,54,20],[53,19,53,20],[54,28,54,35],[37,6,37,7],[37,8,37,9],[81,0,81,9],[77,10,77,18],[75,0,76,4],[75,5,76,14],[71,0,71,3],[35,58,37,60],[47,21,47,27],[47,36,47,43],[48,19,48,20],[48,36,48,43],[47,28,47,35],[71,31,71,34],[49,28,49,35],[50,28,50,35],[51,28,51,35],[50,36,50,43],[78,28,78,35],[79,28,79,35],[3,17,4,20],[7,12,7,13],[7,10,7,11],[21,19,21,20],[18,19,18,20],[47,19,47,20],[51,19,51,20],[50,19,50,20],[3,0,3,15],[17,19,17,20],[10,10,10,29],[21,28,21,35],[5,17,7,20],[7,8,7,9],[7,6,7,7],[42,0,42,3],[23,28,23,35],[35,17,37,20],[7,14,7,15],[17,10,17,18],[18,10,18,18],[19,10,19,18],[20,10,20,18],[21,10,21,18],[40,10,40,29],[18,28,18,35],[19,28,19,35],[41,31,41,34],[33,0,33,15],[33,17,34,20],[33,21,34,42],[40,31,40,34],[9,31,9,60],[9,0,9,29],[21,0,21,9],[23,0,23,9],[24,0,24,9],[15,0,16,4],[18,36,18,43],[25,45,25,60],[33,58,34,60],[10,5,10,8],[11,26,12,29],[15,52,15,54],[16,52,16,54],[17,52,17,54],[15,45,15,51],[16,45,16,51],[63,58,64,60],[63,46,64,48],[63,49,64,51],[63,52,64,54],[60,55,60,60],[19,45,19,51],[20,46,20,51],[21,46,21,51],[20,45,21,45],[24,45,24,60],[48,52,48,54],[48,58,48,60],[49,52,49,54],[50,55,50,57],[51,55,51,57],[50,52,50,54],[41,36,41,45],[41,51,41,60],[28,36,28,43],[30,55,30,60],[40,46,40,49],[45,55,45,57],[19,36,19,43],[48,45,48,51],[10,51,10,60],[10,46,10,49],[25,0,25,43],[26,0,26,35],[27,0,27,35],[28,0,28,35],[10,31,10,34],[11,31,11,34],[20,28,20,35],[11,36,11,45],[12,36,12,60],[15,55,15,57],[15,58,15,60],[16,55,16,57],[17,55,17,57],[18,55,18,57],[19,55,19,57],[20,55,20,57],[11,46,11,49],[11,51,11,60],[18,52,18,54],[18,45,18,51],[19,58,19,60],[20,58,20,60],[1,0,1,60],[61,0,61,60],[3,21,4,41],[5,21,7,41],[3,44,7,60],[63,21,64,41],[65,21,67,41],[75,15,76,25],[22,0,22,9],[22,10,22,18],[22,19,22,20],[22,28,22,35],[22,36,22,43],[23,45,23,60],[52,0,52,9],[52,10,52,18],[52,19,52,20],[52,28,52,35],[52,36,52,43],[54,0,54,9],[47,0,47,9],[48,0,48,9],[49,0,49,9],[50,0,50,9],[88,0,88,35],[82,0,82,9],[82,10,82,18],[82,19,82,20],[82,28,82,35],[82,36,82,43],[87,36,87,43],[88,36,88,43],[84,19,84,20],[83,10,83,18],[83,19,83,20],[83,28,83,35],[84,10,84,18],[84,0,84,9],[83,0,83,9],[84,28,84,35],[85,0,85,43],[86,0,86,35],[81,19,81,20],[78,10,78,18],[79,10,79,18],[72,0,72,3],[81,10,81,18],[80,0,80,9],[87,0,87,35],[80,19,80,20],[80,21,80,27],[79,19,79,20],[80,28,80,35],[77,19,77,20],[78,19,78,20],[81,28,81,35],[78,0,78,9],[79,0,79,9],[73,5,73,14],[77,28,77,35],[80,10,80,18],[77,0,77,9],[53,0,53,9],[53,10,53,18],[79,21,79,27],[63,17,64,20],[65,17,67,20],[58,36,58,43],[54,36,54,43],[41,0,41,3],[37,10,37,11],[70,5,70,8],[71,26,72,29],[37,12,37,13],[37,14,37,15],[69,0,69,29],[48,28,48,35],[48,10,48,18],[40,5,40,8],[40,0,40,3],[51,0,51,9],[51,36,51,43],[49,36,49,43],[49,19,49,20],[54,10,54,18],[63,0,63,15],[7,2,7,5],[37,2,37,5],[67,2,67,5],[81,21,81,27],[82,21,82,27],[83,21,83,27],[84,21,84,27],[13,31,13,60],[43,31,43,60],[73,31,73,60],[78,21,78,27],[48,21,48,27],[49,21,49,27],[50,21,50,27],[51,21,51,27],[52,21,52,27],[53,21,53,27],[54,21,54,27],[18,21,18,27],[19,21,19,27],[20,21,20,27],[21,21,21,27],[22,21,22,27],[23,21,23,27]]}
[null,null,null,null,null,null,null,null,null,null,null,null,null,null,null,null,null,null,null,null,null,null,null,null,null,null,null,null,null,null,null,null,null,null,null,null,null,null,null,null,null,null,null,null,null,null,null,null,null,null,null,null,null,null,null,"業　者　控"]
["　請　　　求　　　書　"]
[]
["㈱　有　迫　組　御中",null,null,null,null,null,null,null,null,null,null,null,null,null,null,null,null,"工事番号",null,null,null,{"$f":"IF('基本情報入力（入力必須）'!B29=\"\",\"\",'基本情報入力（入力必須）'!B29)","v":""},null,null,null,null,null,null,null,null,null,null,null,null,null,null,null,null,null,null,null,null,null,"※","請求書は3日までに【現場控】と【本社控】を作業所長及び担当者に提出して下さい"]
[]
[null,"下記の通り請求致します",null,null,null,null,null,null,null,null,null,null,null,null,null,null,null,"工事名",null,null,null,{"$f":"IF('基本情報入力（入力必須）'!B27=\"\",\"\",'基本情報入力（入力必須）'!B27)","v":""}]
[]
[null,null,{"$f":"IF('基本情報入力（入力必須）'!C3=\"\",\"\",'基本情報入力（入力必須）'!C3)","v":""},null,null,null,"年",null,{"$f":"IF('基本情報入力（入力必須）'!E3=\"\",\"\",'基本情報入力（入力必須）'!E3)","v":""},null,"月",null,{"$f":"IF('基本情報入力（入力必須）'!G3=\"\",\"\",'基本情報入力（入力必須）'!G3)","v":""},null,"日"]
[]
["請求者情報",null,null,null,null,null,null,null,null,null,null,null,null,null,null,null,null,null,null,null,null,null,null,null,null,null,null,null,null,null,null,"振込先情報"]
["住所",null,null,null,"〒",{"$f":"IF('基本情報入力（入力必須）'!B5=\"\",\"\",'基本情報入力（入力必須）'!B5)","v":""},null,null,null,null,{"$f":"IF('基本情報入力（入力必須）'!B7=\"\",\"\",'基本情報入力（入力必須）'!B7)","v":""},null,null,null,null,null,null,null,null,null,null,null,null,null,null,null,null,null,null,null,null,"銀行名",null,null,null,null,{"$f":"IF('基本情報入力（入力必須）'!B17=\"\",\"\",'基本情報入力（入力必須）'!B17)","v":""},null,null,null,null,null,null,null,null,null,"支店名",null,null,null,null,{"$f":"IF('基本情報入力（入力必須）'!B19=\"\",\"\",'基本情報入力（入力必須）'!B19)","v":""}]
["会社名",null,null,null,null,{"$f":"IF('基本情報入力（入力必須）'!B9=\"\",\"\",'基本情報入力（入力必須）'!B9)","v":""},null,null,null,null,null,null,null,null,null,null,null,null,null,null,null,null,null,null,null,null,"㊞\n【現場控】\n【本社控】\nに押印して下さい",null,null,null,null,"口座種類",null,null,null,null,{"$f":"IF('基本情報入力（入力必須）'!B21=\"\",\"\",'基本情報入力（入力必須）'!B21)","v":""},null,null,null,null,null,null,null,null,null,"口座番号",null,null,null,null,{"$f":"IF('基本情報入力（入力必須）'!B23=\"\",\"\",'基本情報入力（入力必須）'!B23)","v":""}]
["代表者名",null,null,null,null,{"$f":"IF('基本情報入力（入力必須）'!B11=\"\",\"\",'基本情報入力（入力必須）'!B11)","v":""},null,null,null,null,null,null,null,null,null,null,null,null,null,null,null,null,null,null,null,null,null,null,null,null,null,"口座名義",null,null,null,null,{"$f":"IF('基本情報入力（入力必須）'!B25=\"\",\"\",'基本情報入力（入力必須）'!B25)","v":""}]
["電話番号",null,null,null,null,{"$f":"IF('基本情報入力（入力必須）'!B13=\"\",\"\",'基本情報入力（入力必須）'!B13)","v":""},null,null,null,null,null,null,null,null,null,"FAX番号",null,null,null,null,{"$f":"IF('基本情報入力（入力必須）'!B15=\"\",\"\",'基本情報入力（入力必須）'!B15)","v":""},null,null,null,null,null,null,null,null,null,null,"※貴社印を【現場控】及び【本社控】に押印して下さい"]
[]
[{"$f":"IF('基本情報入力（入力必須）'!E3=\"\",\"\",'基本情報入力（入力必須）'!E3)","v":""},null,null,null,null,"月分請求",null,null,null,null,null,null,null,null,null,"合計金額（税込）",null,null,null,null,null,null,null,null,null,null,{"$f":"AK29","v":0},null,null,null,null,null,null,null,null,null,null,null,null,null,null,null,null,null,null,"契約金額"]
[null,null,null,null,null,null,null,null,null,null,null,null,null,null,null,null,null,null,null,null,null,null,null,null,null,null,null,null,null,null,null,null,null,null,null,null,null,null,null,null,null,null,null,null,null,"出来高金額"]
["名称",null,null,null,null,null,null,null,null,null,"仕様・細別",null,null,null,null,null,null,null,null,"単位",null,"出来高・納入数量",null,null,null,null,null,null,"単価",null,null,null,null,null,null,null,"出来高・納入金額",null,null,null,null,null,null,null,null,"前回迄支払金額"]
[null,null,null,null,null,null,null,null,null,null,null,null,null,null,null,null,null,null,null,null,null,null,null,null,null,null,null,null,null,null,null,null,null,null,null,null,{"$f":"IF(V19=\"\",IF(AC19=\"\",\"\",AC19),ROUND(V19*AC19,0))","v":""},null,null,null,null,null,null,null,null,"控除金額"]
[null,null,null,null,null,null,null,null,null,null,null,null,null,null,null,null,null,null,null,null,null,null,null,null,null,null,null,null,null,null,null,null,null,null,null,null,{"$f":"IF(V20=\"\",IF(AC20=\"\",\"\",AC20),ROUND(V20*AC20,0))","v":""},null,null,null,null,null,null,null,null,"今回支払金額"]
[null,null,null,null,null,null,null,null,null,null,null,null,null,null,null,null,null,null,null,null,null,null,null,null,null,null,null,null,null,null,null,null,null,null,null,null,{"$f":"IF(V21=\"\",IF(AC21=\"\",\"\",AC21),ROUND(V21*AC21,0))","v":""},null,null,null,null,null,null,null,null,"未払金","保留金額"]
[null,null,null,null,null,null,null,null,null,null,null,null,null,null,null,null,null,null,null,null,null,null,null,null,null,null,null,null,null,null,null,null,null,null,null,null,"",null,null,null,null,null,null,null,null,null,"差引契約金額"]
[null,null,null,null,null,null,null,null,null,null,null,null,null,null,null,null,null,null,null,null,null,null,null,null,null,null,null,null,null,null,null,null,null,null,null,null,""]
[null,null,null,null,null,null,null,null,null,null,null,null,null,null,null,null,null,null,null,null,null,null,null,null,null,null,null,null,null,null,null,null,null,null,null,null,"",null,null,null,null,null,null,null,null,"備　　　　　　　　　考"]
[null,null,null,null,null,null,null,null,null,null,null,null,null,null,null,null,null,null,null,null,null,null,null,null,null,null,null,null,null,null,null,null,null,null,null,null,""]
["請求書内に記入しきれない場合は、別紙：「明細書」へ記入して下さい"]
["小計（税抜き）",null,null,null,null,null,null,null,null,null,null,null,null,null,null,null,null,null,null,null,null,null,null,null,null,null,null,null,null,null,null,null,null,null,null,null,{"$f":"SUM(AK19:AR25)+SUM(明細書!G21,明細書!G43,明細書!G65,明細書!G87,明細書!G109)","v":0}]
["消費税（8%）",null,null,null,null,null,null,null,null,null,null,null,null,null,null,null,null,null,null,null,null,null,null,null,null,null,null,null,null,null,null,null,null,null,null,null,{"$f":"IF(AK27=\"\",\"\",ROUND(AK27*0.08,0))","v":0}]
["合計（小計＋消費税）",null,null,null,null,null,null,null,null,null,null,null,null,null,null,null,null,null,null,null,null,null,null,null,null,null,null,null,null,null,null,null,null,null,null,null,{"$f":"IF(AK27=\"\",\"\",SUM(AK27:AK28))","v":0}]
[]
[null,null,null,null,null,null,null,null,null,null,null,null,null,null,null,null,null,null,null,null,null,null,null,null,null,null,null,null,null,null,null,null,null,null,null,null,null,null,null,null,null,null,null,null,null,null,null,null,null,null,null,null,null,null,null,"現　場　控"]
["　請　　　求　　　書　"]
[]
["㈱　有　迫　組　御中",null,null,null,null,null,null,null,null,null,null,null,null,null,null,null,null,"工事番号",null,null,null,{"$f":"IF(V4=\"\",\"\",V4)","v":""},null,null,null,null,null,null,null,null,null,null,null,null,null,null,null,null,null,null,null,null,null,null,"※","請求書は承認印を押して8日までに本社に提出して下さい。",null,null,null,null,null,null,null,null,null,null,null,null,"作業所長"]
[]
[null,"下記の通り請求致します",null,null,null,null,null,null,null,null,null,null,null,null,null,null,null,"工事名",null,null,null,{"$f":"IF('基本情報入力（入力必須）'!B27=\"\",\"\",'基本情報入力（入力必須）'!B27)","v":""}]
[]
[null,null,{"$f":"IF('基本情報入力（入力必須）'!C3=\"\",\"\",'基本情報入力（入力必須）'!C3)","v":""},null,null,null,"年",null,{"$f":"IF('基本情報入力（入力必須）'!E3=\"\",\"\",'基本情報入力（入力必須）'!E3)","v":""},null,"月",null,{"$f":"IF('基本情報入力（入力必須）'!G3=\"\",\"\",'基本情報入力（入力必須）'!G3)","v":""},null,"日"]
[]
["請求者情報",null,null,null,null,null,null,null,null,null,null,null,null,null,null,null,null,null,null,null,null,null,null,null,null,null,null,null,null,null,null,"振込先情報"]
["住所",null,null,null,"〒",{"$f":"IF('基本情報入力（入力必須）'!B5=\"\",\"\",'基本情報入力（入力必須）'!B5)","v":""},null,null,null,null,{"$f":"IF('基本情報入力（入力必須）'!B7=\"\",\"\",'基本情報入力（入力必須）'!B7)","v":""},null,null,null,null,null,null,null,null,null,null,null,null,null,null,null,null,null,null,null,null,"銀行名",null,null,null,null,{"$f":"IF('基本情報入力（入力必須）'!B17=\"\",\"\",'基本情報入力（入力必須）'!B17)","v":""},null,null,null,null,null,null,null,null,null,"支店名",null,null,null,null,{"$f":"IF('基本情報入力（入力必須）'!B19=\"\",\"\",'基本情報入力（入力必須）'!B19)","v":""}]
["会社名",null,null,null,null,{"$f":"IF('基本情報入力（入力必須）'!B9=\"\",\"\",'基本情報入力（入力必須）'!B9)","v":""},null,null,null,null,null,null,null,null,null,null,null,null,null,null,null,null,null,null,null,null,"㊞",null,null,null,null,"口座種類",null,null,null,null,{"$f":"IF('基本情報入力（入力必須）'!B21=\"\",\"\",'基本情報入力（入力必須）'!B21)","v":""},null,null,null,null,null,null,null,null,null,"口座番号",null,null,null,null,{"$f":"IF('基本情報入力（入力必須）'!B23=\"\",\"\",'基本情報入力（入力必須）'!B23)","v":""}]
["代表者名",null,null,null,null,{"$f":"IF('基本情報入力（入力必須）'!B11=\"\",\"\",'基本情報入力（入力必須）'!B11)","v":""},null,null,null,null,null,null,null,null,null,null,null,null,null,null,null,null,null,null,null,null,null,null,null,null,null,"口座名義",null,null,null,null,{"$f":"IF('基本情報入力（入力必須）'!B25=\"\",\"\",'基本情報入力（入力必須）'!B25)","v":""}]
["電話番号",null,null,null,null,{"$f":"IF('基本情報入力（入力必須）'!B13=\"\",\"\",'基本情報入力（入力必須）'!B13)","v":""},null,null,null,null,null,null,null,null,null,"FAX番号",null,null,null,null,{"$f":"IF('基本情報入力（入力必須）'!B15=\"\",\"\",'基本情報入力（入力必須）'!B15)","v":""},null,null,null,null,null,null,null,null,null,null,"※貴社印を【現場控】及び【本社控】に押印して下さい"]
[]
[{"$f":"A16","v":""},null,null,null,null,"月分請求",null,null,null,null,null,null,null,null,null,"合計金額（税込）",null,null,null,null,null,null,null,null,null,null,{"$f":"IF(AA16=\"\",\"\",AA16)","v":0},null,null,null,null,null,null,null,null,null,null,null,null,null,null,null,null,null,null,"契約金額"]
[null,null,null,null,null,null,null,null,null,null,null,null,null,null,null,null,null,null,null,null,null,null,null,null,null,null,null,null,null,null,null,null,null,null,null,null,null,null,null,null,null,null,null,null,null,"出来高金額"]
["名称",null,null,null,null,null,null,null,null,null,"仕様・細別",null,null,null,null,null,null,null,null,"単位",null,"出来高・納入数量",null,null,null,null,null,null,"単価",null,null,null,null,null,null,null,"出来高・納入金額",null,null,null,null,null,null,null,null,"前回迄支払金額"]
[{"$f":"IF(A19=\"\",\"\",A19)","v":""},null,null,null,null,null,null,null,null,null,{"$f":"IF(K19=\"\",\"\",K19)","v":""},null,null,null,null,null,null,null,null,{"$f":"IF(T19=\"\",\"\",T19)","v":""},null,{"$f":"IF(V19=\"\",\"\",V19)","v":""},null,null,null,null,null,null,{"$f":"IF(AC19=\"\",\"\",AC19)","v":""},null,null,null,null,null,null,null,{"$f":"AK19","v":""},null,null,null,null,null,null,null,null,"控除金額"]
[{"$f":"IF(A20=\"\",\"\",A20)","v":""},null,null,null,null,null,null,null,null,null,{"$f":"IF(K20=\"\",\"\",K20)","v":""},null,null,null,null,null,null,null,null,{"$f":"IF(T20=\"\",\"\",T20)","v":""},null,{"$f":"IF(V20=\"\",\"\",V20)","v":""},null,null,null,null,null,null,"",null,null,null,null,null,null,null,"",null,null,null,null,null,null,null,null,"今回支払金額"]
["",null,null,null,null,null,null,null,null,null,"",null,null,null,null,null,null,null,null,"",null,"",null,null,null,null,null,null,"",null,null,null,null,null,null,null,"",null,null,null,null,null,null,null,null,"未払金","保留金額"]
["",null,null,null,null,null,null,null,null,null,"",null,null,null,null,null,null,null,null,"",null,"",null,null,null,null,null,null,"",null,null,null,null,null,null,null,"",null,null,null,null,null,null,null,null,null,"差引契約金額"]
["",null,null,null,null,null,null,null,null,null,"",null,null,null,null,null,null,null,null,"",null,"",null,null,null,null,null,null,"",null,null,null,null,null,null,null,""]
["",null,null,null,null,null,null,null,null,null,"",null,null,null,null,null,null,null,null,"",null,"",null,null,null,null,null,null,"",null,null,null,null,null,null,null,"",null,null,null,null,null,null,null,null,"備　　　　　　　　　考"]
["",null,null,null,null,null,null,null,null,null,"",null,null,null,null,null,null,null,null,"",null,"",null,null,null,null,null,null,"",null,null,null,null,null,null,null,"",null,null,null,null,null,null,null,null,"引  去  金",null,null,null,null,null,"あ　り　　・　　な　し"]
["請求書内に記入しきれない場合は、別紙：「明細書」へ記入して下さい",null,null,null,null,null,null,null,null,null,null,null,null,null,null,null,null,null,null,null,null,null,null,null,null,null,null,null,null,null,null,null,null,null,null,null,null,null,null,null,null,null,null,null,null,"業　者　名"]
["小計（税抜き）",null,null,null,null,null,null,null,null,null,null,null,null,null,null,null,null,null,null,null,null,null,null,null,null,null,null,null,null,null,null,null,null,null,null,null,{"$f":"AK27","v":0}]
["消費税（8%）",null,null,null,null,null,null,null,null,null,null,null,null,null,null,null,null,null,null,null,null,null,null,null,null,null,null,null,null,null,null,null,null,null,null,null,{"$f":"AK28","v":0}]
["合計（小計＋消費税）",null,null,null,null,null,null,null,null,null,null,null,null,null,null,null,null,null,null,null,null,null,null,null,null,null,null,null,null,null,null,null,null,null,null,null,0]
[]
[null,null,null,null,null,null,null,null,null,null,null,null,null,null,null,null,null,null,null,null,null,null,null,null,null,null,null,null,null,null,null,null,null,null,null,null,null,null,null,null,null,null,null,null,null,null,null,null,null,null,null,null,null,null,null,"本　社　控"]
["　請　　　求　　　書　"]
[]
["㈱　有　迫　組　御中",null,null,null,null,null,null,null,null,null,null,null,null,null,null,null,null,"工事番号",null,null,null,{"$f":"IF(V4=\"\",\"\",V4)","v":""},null,null,null,null,null,null,null,null,null,null,null,null,null,null,null,null,null,null,null,null,null,"社　長",null,null,"専　務",null,null,"常　務",null,null,"経　理",null,null,"経　理",null,null,"作業所長"]
[]
[null,"下記の通り請求致します",null,null,null,null,null,null,null,null,null,null,null,null,null,null,null,"工事名",null,null,null,{"$f":"IF('基本情報入力（入力必須）'!B27=\"\",\"\",'基本情報入力（入力必須）'!B27)","v":""}]
[]
[null,null,{"$f":"IF('基本情報入力（入力必須）'!C3=\"\",\"\",'基本情報入力（入力必須）'!C3)","v":""},null,null,null,"年",null,{"$f":"IF('基本情報入力（入力必須）'!E3=\"\",\"\",'基本情報入力（入力必須）'!E3)","v":""},null,"月",null,{"$f":"IF('基本情報入力（入力必須）'!G3=\"\",\"\",'基本情報入力（入力必須）'!G3)","v":""},null,"日"]
[]
["請求者情報",null,null,null,null,null,null,null,null,null,null,null,null,null,null,null,null,null,null,null,null,null,null,null,null,null,null,null,null,null,null,"振込先情報"]
["住所",null,null,null,"〒",{"$f":"IF('基本情報入力（入力必須）'!B5=\"\",\"\",'基本情報入力（入力必須）'!B5)","v":""},null,null,null,null,{"$f":"IF('基本情報入力（入力必須）'!B7=\"\",\"\",'基本情報入力（入力必須）'!B7)","v":""},null,null,null,null,null,null,null,null,null,null,null,null,null,null,null,null,null,null,null,null,"銀行名",null,null,null,null,{"$f":"IF('基本情報入力（入力必須）'!B17=\"\",\"\",'基本情報入力（入力必須）'!B17)","v":""},null,null,null,null,null,null,null,null,null,"支店名",null,null,null,null,{"$f":"IF('基本情報入力（入力必須）'!B19=\"\",\"\",'基本情報入力（入力必須）'!B19)","v":""}]
["会社名",null,null,null,null,{"$f":"IF('基本情報入力（入力必須）'!B9=\"\",\"\",'基本情報入力（入力必須）'!B9)","v":""},null,null,null,null,null,null,null,null,null,null,null,null,null,null,null,null,null,null,null,null,{"$f":"AA42","v":"㊞"},null,null,null,null,"口座種類",null,null,null,null,{"$f":"IF('基本情報入力（入力必須）'!B21=\"\",\"\",'基本情報入力（入力必須）'!B21)","v":""},null,null,null,null,null,null,null,null,null,"口座番号",null,null,null,null,{"$f":"IF('基本情報入力（入力必須）'!B23=\"\",\"\",'基本情報入力（入力必須）'!B23)","v":""}]
["代表者名",null,null,null,null,{"$f":"IF('基本情報入力（入力必須）'!B11=\"\",\"\",'基本情報入力（入力必須）'!B11)","v":""},null,null,null,null,null,null,null,null,null,null,null,null,null,null,null,null,null,null,null,null,null,null,null,null,null,"口座名義",null,null,null,null,{"$f":"IF('基本情報入力（入力必須）'!B25=\"\",\"\",'基本情報入力（入力必須）'!B25)","v":""}]
["電話番号",null,null,null,null,{"$f":"IF('基本情報入力（入力必須）'!B13=\"\",\"\",'基本情報入力（入力必須）'!B13)","v":""},null,null,null,null,null,null,null,null,null,"FAX番号",null,null,null,null,{"$f":"IF('基本情報入力（入力必須）'!B15=\"\",\"\",'基本情報入力（入力必須）'!B15)","v":""},null,null,null,null,null,null,null,null,null,null,"※貴社印を【現場控】及び【本社控】に押印して下さい"]
[]
[{"$f":"A16","v":""},null,null,null,null,"月分請求",null,null,null,null,null,null,null,null,null,"合計金額（税込）",null,null,null,null,null,null,null,null,null,null,{"$f":"IF(AA16=\"\",\"\",AA16)","v":0},null,null,null,null,null,null,null,null,null,null,null,null,null,null,null,null,null,null,"契約金額"]
[null,null,null,null,null,null,null,null,null,null,null,null,null,null,null,null,null,null,null,null,null,null,null,null,null,null,null,null,null,null,null,null,null,null,null,null,null,null,null,null,null,null,null,null,null,"出来高金額"]
["名称",null,null,null,null,null,null,null,null,null,"仕様・細別",null,null,null,null,null,null,null,null,"単位",null,"出来高・納入数量",null,null,null,null,null,null,"単価",null,null,null,null,null,null,null,"出来高・納入金額",null,null,null,null,null,null,null,null,"前回迄支払金額"]
[{"$f":"IF(A19=\"\",\"\",A19)","v":""},null,null,null,null,null,null,null,null,null,{"$f":"IF(K19=\"\",\"\",K19)","v":""},null,null,null,null,null,null,null,null,{"$f":"IF(T19=\"\",\"\",T19)","v":""},null,{"$f":"IF(V19=\"\",\"\",V19)","v":""},null,null,null,null,null,null,{"$f":"IF(AC19=\"\",\"\",AC19)","v":""},null,null,null,null,null,null,null,{"$f":"AK19","v":""},null,null,null,null,null,null,null,null,"控除金額"]
[{"$f":"IF(A20=\"\",\"\",A20)","v":""},null,null,null,null,null,null,null,null,null,{"$f":"IF(K20=\"\",\"\",K20)","v":""},null,null,null,null,null,null,null,null,"",null,{"$f":"IF(V20=\"\",\"\",V20)","v":""},null,null,null,null,null,null,{"$f":"IF(AC20=\"\",\"\",AC20)","v":""},null,null,null,null,null,null,null,{"$f":"AK20","v":""},null,null,null,null,null,null,null,null,"今回支払金額"]
["",null,null,null,null,null,null,null,null,null,"",null,null,null,null,null,null,null,null,"",null,"",null,null,null,null,null,null,{"$f":"IF(AC21=\"\",\"\",AC21)","v":""},null,null,null,null,null,null,null,"",null,null,null,null,null,null,null,null,"未払金","保留金額"]
["",null,null,null,null,null,null,null,null,null,"",null,null,null,null,null,null,null,null,"",null,"",null,null,null,null,null,null,"",null,null,null,null,null,null,null,"",null,null,null,null,null,null,null,null,null,"差引契約金額"]
["",null,null,null,null,null,null,null,null,null,"",null,null,null,null,null,null,null,null,"",null,"",null,null,null,null,null,null,"",null,null,null,null,null,null,null,""]
["",null,null,null,null,null,null,null,null,null,"",null,null,null,null,null,null,null,null,"",null,"",null,null,null,null,null,null,"",null,null,null,null,null,null,null,"",null,null,null,null,null,null,null,null,"支払方法","現金",null,"%",null,null,"　　　　　　　　　　　    　　　"]
["",null,null,null,null,null,null,null,null,null,"",null,null,null,null,null,null,null,null,"",null,"",null,null,null,null,null,null,"",null,null,null,null,null,null,null,"",null,null,null,null,null,null,null,null,null,"手形",null,"%",null,null,"　　　　　　　　　　   　 　　　"]
["請求書内に記入しきれない場合は、別紙：「明細書」へ記入して下さい",null,null,null,null,null,null,null,null,null,null,null,null,null,null,null,null,null,null,null,null,null,null,null,null,null,null,null,null,null,null,null,null,null,null,null,null,null,null,null,null,null,null,null,null,null,null,null,"※支払方法は経理で記入"]
["小計（税抜き）",null,null,null,null,null,null,null,null,null,null,null,null,null,null,null,null,null,null,null,null,null,null,null,null,null,null,null,null,null,null,null,null,null,null,null,{"$f":"AK27","v":0},null,null,null,null,null,null,null,null,"備　　　　　　　　　考"]
["消費税（8%）",null,null,null,null,null,null,null,null,null,null,null,null,null,null,null,null,null,null,null,null,null,null,null,null,null,null,null,null,null,null,null,null,null,null,null,{"$f":"AK28","v":0},null,null,null,null,null,null,null,null,"引去金",null,null,null,null,null,"あ　り　　・　　な　し"]
["合計（小計＋消費税）",null,null,null,null,null,null,null,null,null,null,null,null,null,null,null,null,null,null,null,null,null,null,null,null,null,null,null,null,null,null,null,null,null,null,null,0,null,null,null,null,null,null,null,null,"業者名",null,null,null,null,null,{"$f":"IF(AZ56=0,\"\",AZ56)","v":""}]

{"sheet":"明細書","index":2,"n_rows":109,"n_cols":7,"rows_kept":109,"cut":false,"hidden":false,"merged":[[1,3,1,4],[23,3,23,4],[45,3,45,4],[9,3,9,4],[10,3,10,4],[11,3,11,4],[12,3,12,4],[15,3,15,4],[16,3,16,4],[17,3,17,4],[18,3,18,4],[19,3,19,4],[24,3,24,4],[30,3,30,4],[31,3,31,4],[37,3,37,4],[36,3,36,4],[25,3,25,4],[28,3,28,4],[29,3,29,4],[64,0,64,5],[46,3,46,4],[47,3,47,4],[50,3,50,4],[51,3,51,4],[52,3,52,4],[38,3,38,4],[39,3,39,4],[40,3,40,4],[41,3,41,4],[63,3,63,4],[58,3,58,4],[0,2,0,6],[22,2,22,6],[44,2,44,6],[20,0,20,5],[42,0,42,5],[2,3,2,4],[3,3,3,4],[4,3,4,4],[5,3,5,4],[6,3,6,4],[7,3,7,4],[8,3,8,4],[32,3,32,4],[33,3,33,4],[34,3,34,4],[35,3,35,4],[59,3,59,4],[60,3,60,4],[61,3,61,4],[62,3,62,4],[53,3,53,4],[54,3,54,4],[55,3,55,4],[56,3,56,4],[57,3,57,4],[66,2,66,6],[67,3,67,4],[68,3,68,4],[69,3,69,4],[72,3,72,4],[73,3,73,4],[74,3,74,4],[75,3,75,4],[76,3,76,4],[77,3,77,4],[85,3,85,4],[86,0,86,5],[78,3,78,4],[79,3,79,4],[80,3,80,4],[81,3,81,4],[82,3,82,4],[105,3,105,4],[106,3,106,4],[107,3,107,4],[108,0,108,5],[97,3,97,4],[98,3,98,4],[99,3,99,4],[100,3,100,4],[103,3,103,4],[13,3,13,4],[14,3,14,4],[101,3,101,4],[102,3,102,4],[104,3,104,4],[92,3,92,4],[93,3,93,4],[94,3,94,4],[95,3,95,4],[96,3,96,4],[88,2,88,6],[89,3,89,4],[90,3,90,4],[91,3,91,4],[83,3,83,4],[84,3,84,4]]}
[{"$f":"IF('基本情報入力（入力必須）'!E3=\"\",\"\",'基本情報入力（入力必須）'!E3)","v":""},"月分明細書",{"$f":"IF('基本情報入力（入力必須）'!B27=\"\",\"\",'基本情報入力（入力必須）'!B27)","v":""}]
["名称","仕様、細別","単位","出来高・納入数量",null,"単価","出来高・納入金額"]
[null,null,null,null,null,null,{"$f":"IF(D3=\"\",IF(F3=\"\",\"\",F3),ROUND(D3*F3,0))","v":""}]
[null,null,null,null,null,null,""]
[null,null,null,null,null,null,""]
[null,null,null,null,null,null,""]
[null,null,null,null,null,null,""]
[null,null,null,null,null,null,""]
[null,null,null,null,null,null,""]
[null,null,null,null,null,null,""]
[null,null,null,null,null,null,{"$f":"IF(D11=\"\",IF(F11=\"\",\"\",F11),ROUND(D11*F11,0))","v":""}]
[null,null,null,null,null,null,""]
[null,null,null,null,null,null,""]
[null,null,null,null,null,null,""]
[null,null,null,null,null,null,""]
[null,null,null,null,null,null,""]
[null,null,null,null,null,null,""]
[null,null,null,null,null,null,""]
[null,null,null,null,null,null,{"$f":"IF(D19=\"\",IF(F19=\"\",\"\",F19),ROUND(D19*F19,0))","v":""}]
[null,null,null,null,null,null,""]
["小計（税抜き）",null,null,null,null,null,{"$f":"IF(G3=\"\",\"\",SUM(G3:G20))","v":""}]
[]
[{"$f":"IF('基本情報入力（入力必須）'!E3=\"\",\"\",'基本情報入力（入力必須）'!E3)","v":""},"月分明細書",{"$f":"IF('基本情報入力（入力必須）'!B27=\"\",\"\",'基本情報入力（入力必須）'!B27)","v":""}]
["名称","仕様、細別","単位","出来高・納入数量",null,"単価","出来高・納入金額"]
[null,null,null,null,null,null,{"$f":"IF(D25=\"\",IF(F25=\"\",\"\",F25),ROUND(D25*F25,0))","v":""}]
[null,null,null,null,null,null,""]
[null,null,null,null,null,null,""]
[null,null,null,null,null,null,""]
[null,null,null,null,null,null,""]
[null,null,null,null,null,null,""]
[null,null,null,null,null,null,""]
[null,null,null,null,null,null,{"$f":"IF(D32=\"\",IF(F32=\"\",\"\",F32),ROUND(D32*F32,0))","v":""}]
[null,null,null,null,null,null,""]
[null,null,null,null,null,null,{"$f":"IF(D34=\"\",IF(F34=\"\",\"\",F34),ROUND(D34*F34,0))","v":""}]
[null,null,null,null,null,null,""]
[null,null,null,null,null,null,""]
[null,null,null,null,null,null,""]
[null,null,null,null,null,null,""]
[null,null,null,null,null,null,""]
[null,null,null,null,null,null,{"$f":"IF(D40=\"\",IF(F40=\"\",\"\",F40),ROUND(D40*F40,0))","v":""}]
[null,null,null,null,null,null,""]
[null,null,null,null,null,null,""]
["小計（税抜き）",null,null,null,null,null,{"$f":"IF(G25=\"\",\"\",SUM(G25:G42))","v":""}]
[]
[{"$f":"IF('基本情報入力（入力必須）'!E3=\"\",\"\",'基本情報入力（入力必須）'!E3)","v":""},"月分明細書",{"$f":"IF('基本情報入力（入力必須）'!B27=\"\",\"\",'基本情報入力（入力必須）'!B27)","v":""}]
["名称","仕様、細別","単位","出来高・納入数量",null,"単価","出来高・納入金額"]
[null,null,null,null,null,null,{"$f":"IF(D47=\"\",IF(F47=\"\",\"\",F47),ROUND(D47*F47,0))","v":""}]
[null,null,null,null,null,null,""]
[null,null,null,null,null,null,""]
[null,null,null,null,null,null,""]
[null,null,null,null,null,null,""]
[null,null,null,null,null,null,""]
[null,null,null,null,null,null,{"$f":"IF(D53=\"\",IF(F53=\"\",\"\",F53),ROUND(D53*F53,0))","v":""}]
[null,null,null,null,null,null,""]
[null,null,null,null,null,null,""]
[null,null,null,null,null,null,""]
[null,null,null,null,null,null,""]
[null,null,null,null,null,null,""]
[null,null,null,null,null,null,""]
[null,null,null,null,null,null,""]
[null,null,null,null,null,null,""]
[null,null,null,null,null,null,{"$f":"IF(D62=\"\",IF(F62=\"\",\"\",F62),ROUND(D62*F62,0))","v":""}]
[null,null,null,null,null,null,""]
[null,null,null,null,null,null,""]
["小計（税抜き）",null,null,null,null,null,{"$f":"IF(G47=\"\",\"\",SUM(G47:G64))","v":""}]
[]
[{"$f":"IF('基本情報入力（入力必須）'!E3=\"\",\"\",'基本情報入力（入力必須）'!E3)","v":""},"月分明細書",{"$f":"IF('基本情報入力（入力必須）'!B27=\"\",\"\",'基本情報入力（入力必須）'!B27)","v":""}]
["名称","仕様、細別","単位","出来高・納入数量",null,"単価","出来高・納入金額"]
[null,null,null,null,null,null,{"$f":"IF(D69=\"\",IF(F69=\"\",\"\",F69),ROUND(D69*F69,0))","v":""}]
[null,null,null,null,null,null,""]
[null,null,null,null,null,null,""]
[null,null,null,null,null,null,""]
[null,null,null,null,null,null,""]
[null,null,null,null,null,null,""]
[null,null,null,null,null,null,{"$f":"IF(D75=\"\",IF(F75=\"\",\"\",F75),ROUND(D75*F75,0))","v":""}]
[null,null,null,null,null,null,""]
[null,null,null,null,null,null,""]
[null,null,null,null,null,null,""]
[null,null,null,null,null,null,{"$f":"IF(D79=\"\",IF(F79=\"\",\"\",F79),ROUND(D79*F79,0))","v":""}]
[null,null,null,null,null,null,{"$f":"IF(D80=\"\",IF(F80=\"\",\"\",F80),ROUND(D80*F80,0))","v":""}]
[null,null,null,null,null,null,""]
[null,null,null,null,null,null,""]
[null,null,null,null,null,null,""]
[null,null,null,null,null,null,""]
[null,null,null,null,null,null,{"$f":"IF(D85=\"\",IF(F85=\"\",\"\",F85),ROUND(D85*F85,0))","v":""}]
[null,null,null,null,null,null,{"$f":"IF(D86=\"\",IF(F86=\"\",\"\",F86),ROUND(D86*F86,0))","v":""}]
["小計（税抜き）",null,null,null,null,null,{"$f":"IF(G69=\"\",\"\",SUM(G69:G86))","v":""}]
[]
[{"$f":"IF('基本情報入力（入力必須）'!E3=\"\",\"\",'基本情報入力（入力必須）'!E3)","v":""},"月分明細書",{"$f":"IF('基本情報入力（入力必須）'!B27=\"\",\"\",'基本情報入力（入力必須）'!B27)","v":""}]
["名称","仕様、細別","単位","出来高・納入数量",null,"単価","出来高・納入金額"]
[null,null,null,null,null,null,{"$f":"IF(D91=\"\",IF(F91=\"\",\"\",F91),ROUND(D91*F91,0))","v":""}]
[null,null,null,null,null,null,""]
[null,null,null,null,null,null,""]
[null,null,null,null,null,null,""]
[null,null,null,null,null,null,""]
[null,null,null,null,null,null,""]
[null,null,null,null,null,null,""]
[null,null,null,null,null,null,""]
[null,null,null,null,null,null,{"$f":"IF(D99=\"\",IF(F99=\"\",\"\",F99),ROUND(D99*F99,0))","v":""}]
[null,null,null,null,null,null,{"$f":"IF(D100=\"\",IF(F100=\"\",\"\",F100),ROUND(D100*F100,0))","v":""}]
[null,null,null,null,null,null,""]
[null,null,null,null,null,null,""]
[null,null,null,null,null,null,""]
[null,null,null,null,null,null,""]
[null,null,null,null,null,null,""]
[null,null,null,null,null,null,""]
[null,null,null,null,null,null,{"$f":"IF(D107=\"\",IF(F107=\"\",\"\",F107),ROUND(D107*F107,0))","v":""}]
[null,null,null,null,null,null,{"$f":"IF(D108=\"\",IF(F108=\"\",\"\",F108),ROUND(D108*F108,0))","v":""}]
["小計（税抜き）",null,null,null,null,null,{"$f":"IF(G91=\"\",\"\",SUM(G91:G108))","v":""}]